BEGIN:VCALENDAR
VERSION:2.0
PRODID:-// - ECPv6.15.20//NONSGML v1.0//EN
CALSCALE:GREGORIAN
METHOD:PUBLISH
X-ORIGINAL-URL:https://imssa.ca
X-WR-CALDESC:Events for 
REFRESH-INTERVAL;VALUE=DURATION:PT1H
X-Robots-Tag:noindex
X-PUBLISHED-TTL:PT1H
BEGIN:VTIMEZONE
TZID:America/Toronto
BEGIN:DAYLIGHT
TZOFFSETFROM:-0500
TZOFFSETTO:-0400
TZNAME:EDT
DTSTART:20240310T070000
END:DAYLIGHT
BEGIN:STANDARD
TZOFFSETFROM:-0400
TZOFFSETTO:-0500
TZNAME:EST
DTSTART:20241103T060000
END:STANDARD
BEGIN:DAYLIGHT
TZOFFSETFROM:-0500
TZOFFSETTO:-0400
TZNAME:EDT
DTSTART:20250309T070000
END:DAYLIGHT
BEGIN:STANDARD
TZOFFSETFROM:-0400
TZOFFSETTO:-0500
TZNAME:EST
DTSTART:20251102T060000
END:STANDARD
BEGIN:DAYLIGHT
TZOFFSETFROM:-0500
TZOFFSETTO:-0400
TZNAME:EDT
DTSTART:20260308T070000
END:DAYLIGHT
BEGIN:STANDARD
TZOFFSETFROM:-0400
TZOFFSETTO:-0500
TZNAME:EST
DTSTART:20261101T060000
END:STANDARD
END:VTIMEZONE
BEGIN:VEVENT
DTSTART;TZID=America/Toronto:20250522T180000
DTEND;TZID=America/Toronto:20250522T200000
DTSTAMP:20260424T163006
CREATED:20250506T125133Z
LAST-MODIFIED:20250512T134654Z
UID:2756-1747936800-1747944000@imssa.ca
SUMMARY:IMS Intramurals Banquet
DESCRIPTION:Celebrate the end of the season with your teammates and/or friends at our Intramurals Banquet! Enjoy FREE food and non-alcoholic drinks on us\, and if you’re in the mood for something stronger\, alcoholic beverages will be available for purchase at the GSU bar downstairs. All IMS students are welcome! \n🏆 We’ll also be handing out awards and prizes to recognize standout performances and team spirit—so don’t miss your chance to win big and cheer on your fellow players! \n📍 Location: GSU Grad Loft\n🕗 Time: 6-8 pm\n📅 Date: Thursday\, May 22\, 2025 \n✅ RSVP now to save your spot: https://forms.gle/J5VUwWkYGdM4gjTA6 \nCome for the food\, stay for the fun—and help us close out the season in style!
URL:https://imssa.ca/event/ims-intramurals-banquet/
END:VEVENT
END:VCALENDAR