BEGIN:VCALENDAR
VERSION:2.0
PRODID:-// - ECPv6.15.20//NONSGML v1.0//EN
CALSCALE:GREGORIAN
METHOD:PUBLISH
X-ORIGINAL-URL:https://imssa.ca
X-WR-CALDESC:Events for 
REFRESH-INTERVAL;VALUE=DURATION:PT1H
X-Robots-Tag:noindex
X-PUBLISHED-TTL:PT1H
BEGIN:VTIMEZONE
TZID:America/Toronto
BEGIN:DAYLIGHT
TZOFFSETFROM:-0500
TZOFFSETTO:-0400
TZNAME:EDT
DTSTART:20240310T070000
END:DAYLIGHT
BEGIN:STANDARD
TZOFFSETFROM:-0400
TZOFFSETTO:-0500
TZNAME:EST
DTSTART:20241103T060000
END:STANDARD
BEGIN:DAYLIGHT
TZOFFSETFROM:-0500
TZOFFSETTO:-0400
TZNAME:EDT
DTSTART:20250309T070000
END:DAYLIGHT
BEGIN:STANDARD
TZOFFSETFROM:-0400
TZOFFSETTO:-0500
TZNAME:EST
DTSTART:20251102T060000
END:STANDARD
BEGIN:DAYLIGHT
TZOFFSETFROM:-0500
TZOFFSETTO:-0400
TZNAME:EDT
DTSTART:20260308T070000
END:DAYLIGHT
BEGIN:STANDARD
TZOFFSETFROM:-0400
TZOFFSETTO:-0500
TZNAME:EST
DTSTART:20261101T060000
END:STANDARD
END:VTIMEZONE
BEGIN:VEVENT
DTSTART;TZID=America/Toronto:20250609T180000
DTEND;TZID=America/Toronto:20250609T200000
DTSTAMP:20260424T145818
CREATED:20250602T150553Z
LAST-MODIFIED:20250602T150553Z
UID:2808-1749492000-1749499200@imssa.ca
SUMMARY:IMSSA Multi-Site Board Games Night
DESCRIPTION:Have a chill night playing board games brought to you by MaRS\, St. Michael\, Mt. Sinai/Toronto Rehab\, PMH\, and Sickkids! The board games entry will be free on Monday June 9th\, 6-8pm. Please RSVP below! Please contact your respective site directors if you have any questions. Registration link: https://forms.gle/yyxCom7n9xfdzkyH6
URL:https://imssa.ca/event/imssa-multi-site-board-games-night/
END:VEVENT
END:VCALENDAR