BEGIN:VCALENDAR
VERSION:2.0
PRODID:-// - ECPv6.15.20//NONSGML v1.0//EN
CALSCALE:GREGORIAN
METHOD:PUBLISH
X-ORIGINAL-URL:https://imssa.ca
X-WR-CALDESC:Events for 
REFRESH-INTERVAL;VALUE=DURATION:PT1H
X-Robots-Tag:noindex
X-PUBLISHED-TTL:PT1H
BEGIN:VTIMEZONE
TZID:America/Toronto
BEGIN:DAYLIGHT
TZOFFSETFROM:-0500
TZOFFSETTO:-0400
TZNAME:EDT
DTSTART:20240310T070000
END:DAYLIGHT
BEGIN:STANDARD
TZOFFSETFROM:-0400
TZOFFSETTO:-0500
TZNAME:EST
DTSTART:20241103T060000
END:STANDARD
BEGIN:DAYLIGHT
TZOFFSETFROM:-0500
TZOFFSETTO:-0400
TZNAME:EDT
DTSTART:20250309T070000
END:DAYLIGHT
BEGIN:STANDARD
TZOFFSETFROM:-0400
TZOFFSETTO:-0500
TZNAME:EST
DTSTART:20251102T060000
END:STANDARD
BEGIN:DAYLIGHT
TZOFFSETFROM:-0500
TZOFFSETTO:-0400
TZNAME:EDT
DTSTART:20260308T070000
END:DAYLIGHT
BEGIN:STANDARD
TZOFFSETFROM:-0400
TZOFFSETTO:-0500
TZNAME:EST
DTSTART:20261101T060000
END:STANDARD
END:VTIMEZONE
BEGIN:VEVENT
DTSTART;TZID=America/Toronto:20250616T120000
DTEND;TZID=America/Toronto:20250616T140000
DTSTAMP:20260424T145652
CREATED:20250610T185520Z
LAST-MODIFIED:20250610T185520Z
UID:2818-1750075200-1750082400@imssa.ca
SUMMARY:MSc-PhD Transfer and PhD Qualifying Exam Workshop
DESCRIPTION:Are you preparing for your MSc-PhD Transfer Exam or PhD Qualifying Exam and wondering where to start? Join IMSSA Academics and the Peer-to-Peer Mentorship program for an interactive virtual workshop on MSc-PhD Transfer and PhD Qualifying Exams! We’ll cover the purpose of these exams\, share tips for studying\, and answer your questions about the process. Whether you’re just starting out or preparing to write soon\, this is a great opportunity to learn from peers and upper-year students who have been through it. \n📅 When: June 16\, 2025\n🕛 Time: 12:00–2:00 PM\n📍 Where: Zoom (Link will be sent closer to the date) \nDon’t miss out on this chance to get ahead in your grad school journey!\nRegister here!
URL:https://imssa.ca/event/msc-phd-transfer-and-phd-qualifying-exam-workshop/
END:VEVENT
END:VCALENDAR