BEGIN:VCALENDAR
VERSION:2.0
PRODID:-// - ECPv6.15.20//NONSGML v1.0//EN
CALSCALE:GREGORIAN
METHOD:PUBLISH
X-ORIGINAL-URL:https://imssa.ca
X-WR-CALDESC:Events for 
REFRESH-INTERVAL;VALUE=DURATION:PT1H
X-Robots-Tag:noindex
X-PUBLISHED-TTL:PT1H
BEGIN:VTIMEZONE
TZID:America/Toronto
BEGIN:DAYLIGHT
TZOFFSETFROM:-0500
TZOFFSETTO:-0400
TZNAME:EDT
DTSTART:20240310T070000
END:DAYLIGHT
BEGIN:STANDARD
TZOFFSETFROM:-0400
TZOFFSETTO:-0500
TZNAME:EST
DTSTART:20241103T060000
END:STANDARD
BEGIN:DAYLIGHT
TZOFFSETFROM:-0500
TZOFFSETTO:-0400
TZNAME:EDT
DTSTART:20250309T070000
END:DAYLIGHT
BEGIN:STANDARD
TZOFFSETFROM:-0400
TZOFFSETTO:-0500
TZNAME:EST
DTSTART:20251102T060000
END:STANDARD
BEGIN:DAYLIGHT
TZOFFSETFROM:-0500
TZOFFSETTO:-0400
TZNAME:EDT
DTSTART:20260308T070000
END:DAYLIGHT
BEGIN:STANDARD
TZOFFSETFROM:-0400
TZOFFSETTO:-0500
TZNAME:EST
DTSTART:20261101T060000
END:STANDARD
END:VTIMEZONE
BEGIN:VEVENT
DTSTART;TZID=America/Toronto:20251002T180000
DTEND;TZID=America/Toronto:20251002T203000
DTSTAMP:20260424T083529
CREATED:20250911T222902Z
LAST-MODIFIED:20250911T222902Z
UID:2891-1759428000-1759437000@imssa.ca
SUMMARY:IMSSA Fall Elections
DESCRIPTION:Are you interested in student leadership and getting more involved with IMS? Nominations for the 2024–2025 IMSSA Executive Team are now open to all IMS students!\n Nomination deadline: Tuesday\, September 30th at 11:59 PM (no late submissions).\n Elections: Thursday\, October 2nd\, 6–8:30 PM at Sidney Smith Hall (Room 1086). Virtual options available—contact imssa@studentorg.utoronto.ca if needed.\n Click here to see position details and requirements.\n Complete this form to nominate yourself.
URL:https://imssa.ca/event/imssa-fall-elections/
LOCATION:Sidney Smith Hall
END:VEVENT
BEGIN:VEVENT
DTSTART;TZID=America/Toronto:20251002T210000
DTEND;TZID=America/Toronto:20251002T230000
DTSTAMP:20260424T083529
CREATED:20251001T193956Z
LAST-MODIFIED:20251001T193956Z
UID:2910-1759438800-1759446000@imssa.ca
SUMMARY:IMSSA Post Elections Social
DESCRIPTION:Come join us in celebrating the newly elected IMSSA Executive Team for 2025-2026!\nWe will be celebrating at Smith Social House (171 College St\, Toronto\, ON M5T 1P7) following elections at 9pm Thursday October 2nd. Food/snacks will be served!\nPlease RSVP here. Everyone is encouraged to attend!
URL:https://imssa.ca/event/imssa-post-elections-social/
END:VEVENT
END:VCALENDAR