BEGIN:VCALENDAR
VERSION:2.0
PRODID:-// - ECPv6.15.20//NONSGML v1.0//EN
CALSCALE:GREGORIAN
METHOD:PUBLISH
X-ORIGINAL-URL:https://imssa.ca
X-WR-CALDESC:Events for 
REFRESH-INTERVAL;VALUE=DURATION:PT1H
X-Robots-Tag:noindex
X-PUBLISHED-TTL:PT1H
BEGIN:VTIMEZONE
TZID:America/Toronto
BEGIN:DAYLIGHT
TZOFFSETFROM:-0500
TZOFFSETTO:-0400
TZNAME:EDT
DTSTART:20240310T070000
END:DAYLIGHT
BEGIN:STANDARD
TZOFFSETFROM:-0400
TZOFFSETTO:-0500
TZNAME:EST
DTSTART:20241103T060000
END:STANDARD
BEGIN:DAYLIGHT
TZOFFSETFROM:-0500
TZOFFSETTO:-0400
TZNAME:EDT
DTSTART:20250309T070000
END:DAYLIGHT
BEGIN:STANDARD
TZOFFSETFROM:-0400
TZOFFSETTO:-0500
TZNAME:EST
DTSTART:20251102T060000
END:STANDARD
BEGIN:DAYLIGHT
TZOFFSETFROM:-0500
TZOFFSETTO:-0400
TZNAME:EDT
DTSTART:20260308T070000
END:DAYLIGHT
BEGIN:STANDARD
TZOFFSETFROM:-0400
TZOFFSETTO:-0500
TZNAME:EST
DTSTART:20261101T060000
END:STANDARD
END:VTIMEZONE
BEGIN:VEVENT
DTSTART;TZID=America/Toronto:20251024T090000
DTEND;TZID=America/Toronto:20251024T173000
DTSTAMP:20260424T083426
CREATED:20250814T194855Z
LAST-MODIFIED:20250814T194855Z
UID:2865-1761296400-1761327000@imssa.ca
SUMMARY:Neuroscience of Meditation Summit 2025
DESCRIPTION:Neuroscience of Meditation Summit 2025\nOct. 24\, 9:00 am – 5:30 pm \nStep into the frontier where contemplative practice meets cutting-edge science. The Neuroscience of Meditation is a first-of-its-kind summit that brings together researchers\, advanced meditators\, and neurotechnology innovators to explore what happens in the brain during meditation – and how that knowledge can deepen the practice itself. \nBacked by empirical evidence\, we will present how specific forms of brain stimulation can enhance meditative states\, opening the door to transformative possibilities and new insights into the nature of consciousness. Through real-time EEG measurements\, computational modeling\, machine learning\, laboratory research\, and lived meditative experience\, this summit invites participants to be part of a pioneering community. \nFor more information and to register\, please click here.
URL:https://imssa.ca/event/neuroscience-of-meditation-summit-2025/
END:VEVENT
BEGIN:VEVENT
DTSTART;TZID=America/Toronto:20251024T190000
DTEND;TZID=America/Toronto:20251025T000000
DTSTAMP:20260424T083426
CREATED:20251006T125626Z
LAST-MODIFIED:20251006T125626Z
UID:3026-1761332400-1761350400@imssa.ca
SUMMARY:IMSSA x UTGSU Halloween Party: Haunted Arcade
DESCRIPTION:The IMSSA X UTGSU Halloween Party is creeping up\, and we’ve got an evening of haunted arcade thrills planned just for you! Registration is now open!\n🕸️ Date: Friday\, October 24th\n🕸️ Time: 7PM – Midnight\n🕸️ Location: UTGSU Building 16 Bancroft Avenue\, Toronto\, ON M5S 1C1 \nWhat’s on the menu?\n🎶 Music to set the perfect spooky vibe!\n🍻 Drinks to keep your spirits high!\n🍔 Delicious food to fuel your Halloween fun!\n🕹️ Arcade games to fuel your competitive spirit\n💀 A haunted dance floor where you can dance the night away!\n👻 Costume contest with fang-tastic prizes for the best dressed!\n…. more! \nDon’t miss out on the biggest\, most haunted night of the year! Gather your ghoulish friends and get ready for an unforgettable evening. Entrance is FREE! \nIf you are interested in attending\, please register using the QR code in the poster!
URL:https://imssa.ca/event/imssa-x-utgsu-halloween-party-haunted-arcade/
END:VEVENT
END:VCALENDAR