BEGIN:VCALENDAR
VERSION:2.0
PRODID:-// - ECPv6.15.20//NONSGML v1.0//EN
CALSCALE:GREGORIAN
METHOD:PUBLISH
X-ORIGINAL-URL:https://imssa.ca
X-WR-CALDESC:Events for 
REFRESH-INTERVAL;VALUE=DURATION:PT1H
X-Robots-Tag:noindex
X-PUBLISHED-TTL:PT1H
BEGIN:VTIMEZONE
TZID:America/Toronto
BEGIN:DAYLIGHT
TZOFFSETFROM:-0500
TZOFFSETTO:-0400
TZNAME:EDT
DTSTART:20240310T070000
END:DAYLIGHT
BEGIN:STANDARD
TZOFFSETFROM:-0400
TZOFFSETTO:-0500
TZNAME:EST
DTSTART:20241103T060000
END:STANDARD
BEGIN:DAYLIGHT
TZOFFSETFROM:-0500
TZOFFSETTO:-0400
TZNAME:EDT
DTSTART:20250309T070000
END:DAYLIGHT
BEGIN:STANDARD
TZOFFSETFROM:-0400
TZOFFSETTO:-0500
TZNAME:EST
DTSTART:20251102T060000
END:STANDARD
BEGIN:DAYLIGHT
TZOFFSETFROM:-0500
TZOFFSETTO:-0400
TZNAME:EDT
DTSTART:20260308T070000
END:DAYLIGHT
BEGIN:STANDARD
TZOFFSETFROM:-0400
TZOFFSETTO:-0500
TZNAME:EST
DTSTART:20261101T060000
END:STANDARD
END:VTIMEZONE
BEGIN:VEVENT
DTSTART;TZID=America/Toronto:20251030T150000
DTEND;TZID=America/Toronto:20251030T170000
DTSTAMP:20260424T070421
CREATED:20251021T175433Z
LAST-MODIFIED:20251021T175433Z
UID:3065-1761836400-1761843600@imssa.ca
SUMMARY:Panoramics - In Her Element
DESCRIPTION: Mark your calendars for our upcoming “Inspire Me” virtual event happening on October 30th at 3 PM EDT.\n“In Her Element” is a celebration of the scientists\, innovators\, and leaders driving transformative change in spatial and single-cell biology. \nThe women (Jo Anne Stratton\, Odunola Adebiyi\, Adriana Suarez-Gonzalez\, Sruthi Purushothaman Ph.D. and Corina Nagy\, Ph.D.) at this event will share their personal and professional journeys. We’ll touch on the lessons learned\, the barriers they’ve faced\, and the advice they have for others navigating the field. \nCome for the science. Stay for the stories. Leave inspired. \n\n\n Register here: https://www.panoramics-a-vision.com/event-details-registration/the-matrix-collective-connecting-minds-in-spatial-single-cell-biology-1
URL:https://imssa.ca/event/panoramics-in-her-element/
END:VEVENT
END:VCALENDAR