BEGIN:VCALENDAR
VERSION:2.0
PRODID:-// - ECPv6.15.20//NONSGML v1.0//EN
CALSCALE:GREGORIAN
METHOD:PUBLISH
X-ORIGINAL-URL:https://imssa.ca
X-WR-CALDESC:Events for 
REFRESH-INTERVAL;VALUE=DURATION:PT1H
X-Robots-Tag:noindex
X-PUBLISHED-TTL:PT1H
BEGIN:VTIMEZONE
TZID:America/Toronto
BEGIN:DAYLIGHT
TZOFFSETFROM:-0500
TZOFFSETTO:-0400
TZNAME:EDT
DTSTART:20240310T070000
END:DAYLIGHT
BEGIN:STANDARD
TZOFFSETFROM:-0400
TZOFFSETTO:-0500
TZNAME:EST
DTSTART:20241103T060000
END:STANDARD
BEGIN:DAYLIGHT
TZOFFSETFROM:-0500
TZOFFSETTO:-0400
TZNAME:EDT
DTSTART:20250309T070000
END:DAYLIGHT
BEGIN:STANDARD
TZOFFSETFROM:-0400
TZOFFSETTO:-0500
TZNAME:EST
DTSTART:20251102T060000
END:STANDARD
BEGIN:DAYLIGHT
TZOFFSETFROM:-0500
TZOFFSETTO:-0400
TZNAME:EDT
DTSTART:20260308T070000
END:DAYLIGHT
BEGIN:STANDARD
TZOFFSETFROM:-0400
TZOFFSETTO:-0500
TZNAME:EST
DTSTART:20261101T060000
END:STANDARD
END:VTIMEZONE
BEGIN:VEVENT
DTSTART;TZID=America/Toronto:20251103T080000
DTEND;TZID=America/Toronto:20251103T170000
DTSTAMP:20260424T070739
CREATED:20251103T235552Z
LAST-MODIFIED:20251103T235552Z
UID:3082-1762156800-1762189200@imssa.ca
SUMMARY:IMS International Thai Cuisine Night
DESCRIPTION:Join the IMS international community as we explore different cuisines around the world! \nThe next event will be at 6pm on Tuesday\, November 11th\, 2025 at SukhoTHAI (52 Wellington St E\, Toronto\, ON). \nThis is a great way to try some authentic cuisine\, meet new friends\, and experience a unique part of the world with the IMS International Community. Each attendee will be responsible for paying for their own foods/drinks. We hope to see you there! \nPlease register on the form using the link below:\nhttps://forms.gle/EMkmTKpSeMo4XffcA \nReservation is limited so please ONLY register if you are sure you are able to attend. If anything changes and you can no longer attend\, please email rebecca.smythe@mail.utoronto.ca.
URL:https://imssa.ca/event/ims-international-thai-cuisine-night/
END:VEVENT
END:VCALENDAR