BEGIN:VCALENDAR
VERSION:2.0
PRODID:-// - ECPv6.15.20//NONSGML v1.0//EN
CALSCALE:GREGORIAN
METHOD:PUBLISH
X-ORIGINAL-URL:https://imssa.ca
X-WR-CALDESC:Events for 
REFRESH-INTERVAL;VALUE=DURATION:PT1H
X-Robots-Tag:noindex
X-PUBLISHED-TTL:PT1H
BEGIN:VTIMEZONE
TZID:America/Toronto
BEGIN:DAYLIGHT
TZOFFSETFROM:-0500
TZOFFSETTO:-0400
TZNAME:EDT
DTSTART:20240310T070000
END:DAYLIGHT
BEGIN:STANDARD
TZOFFSETFROM:-0400
TZOFFSETTO:-0500
TZNAME:EST
DTSTART:20241103T060000
END:STANDARD
BEGIN:DAYLIGHT
TZOFFSETFROM:-0500
TZOFFSETTO:-0400
TZNAME:EDT
DTSTART:20250309T070000
END:DAYLIGHT
BEGIN:STANDARD
TZOFFSETFROM:-0400
TZOFFSETTO:-0500
TZNAME:EST
DTSTART:20251102T060000
END:STANDARD
BEGIN:DAYLIGHT
TZOFFSETFROM:-0500
TZOFFSETTO:-0400
TZNAME:EDT
DTSTART:20260308T070000
END:DAYLIGHT
BEGIN:STANDARD
TZOFFSETFROM:-0400
TZOFFSETTO:-0500
TZNAME:EST
DTSTART:20261101T060000
END:STANDARD
END:VTIMEZONE
BEGIN:VEVENT
DTSTART;TZID=America/Toronto:20251113T190000
DTEND;TZID=America/Toronto:20251113T210000
DTSTAMP:20260424T070444
CREATED:20251014T233737Z
LAST-MODIFIED:20251014T233737Z
UID:3033-1763060400-1763067600@imssa.ca
SUMMARY:IMS Magazine Fall 2025 Launch Party!
DESCRIPTION:Join us for an evening of celebration as we launch the Fall 2025 issue of the IMS Magazine\, Health in the Margins. Hear from this issue’s featured panelists\, connect with fellow students and faculty\, and enjoy delicious food and refreshments in the beautiful Debates Room at Hart House. \nThe event takes place Thurs Nov. 13 from 7–9 PM. Space is limited – please RSVP by Thurs Nov 6 at tinyurl.com/bdhj8ct7. \nCome celebrate another incredible issue created by IMS students – we can’t wait to see you there! If you have any questions\, please don’t hesitate to contact us at theimsmagazine@gmail.com.
URL:https://imssa.ca/event/ims-magazine-fall-2025-launch-party/
END:VEVENT
END:VCALENDAR