BEGIN:VCALENDAR
VERSION:2.0
PRODID:-// - ECPv6.15.20//NONSGML v1.0//EN
CALSCALE:GREGORIAN
METHOD:PUBLISH
X-ORIGINAL-URL:https://imssa.ca
X-WR-CALDESC:Events for 
REFRESH-INTERVAL;VALUE=DURATION:PT1H
X-Robots-Tag:noindex
X-PUBLISHED-TTL:PT1H
BEGIN:VTIMEZONE
TZID:America/Toronto
BEGIN:DAYLIGHT
TZOFFSETFROM:-0500
TZOFFSETTO:-0400
TZNAME:EDT
DTSTART:20240310T070000
END:DAYLIGHT
BEGIN:STANDARD
TZOFFSETFROM:-0400
TZOFFSETTO:-0500
TZNAME:EST
DTSTART:20241103T060000
END:STANDARD
BEGIN:DAYLIGHT
TZOFFSETFROM:-0500
TZOFFSETTO:-0400
TZNAME:EDT
DTSTART:20250309T070000
END:DAYLIGHT
BEGIN:STANDARD
TZOFFSETFROM:-0400
TZOFFSETTO:-0500
TZNAME:EST
DTSTART:20251102T060000
END:STANDARD
BEGIN:DAYLIGHT
TZOFFSETFROM:-0500
TZOFFSETTO:-0400
TZNAME:EDT
DTSTART:20260308T070000
END:DAYLIGHT
BEGIN:STANDARD
TZOFFSETFROM:-0400
TZOFFSETTO:-0500
TZNAME:EST
DTSTART:20261101T060000
END:STANDARD
END:VTIMEZONE
BEGIN:VEVENT
DTSTART;TZID=America/Toronto:20251119T090000
DTEND;TZID=America/Toronto:20251119T120000
DTSTAMP:20260424T070444
CREATED:20251002T134022Z
LAST-MODIFIED:20251002T134022Z
UID:2916-1763542800-1763553600@imssa.ca
SUMMARY:15th Annual Ori Rotstein Lecture in Translational Research
DESCRIPTION:15th Annual Ori Rotstein Lecture in Translational Research\nRegister by Oct. 16 \nThe Institute of Medical Science invites you to register for the 15th Annual Ori Rotstein Lecture in Translational Research\, taking place on Wednesday\, November 19\, 2025\, from 9:00 AM to 12:00 PM at the Li Ka Shing Auditorium. \nThis year’s theme\, “Sex Differences in Health and Disease\,” will highlight current research and explore critical gaps in the field. We are excited to announce that this year’s event will commence with a wonderful lecture from Keynote Speaker Dr. Karen Reue and culminate in an inspired panel discussion. The panel discussion will showcase accomplished speakers exploring how they integrate sex differences in their research. \nAll students are required to attend in person. You must attend at least once during your degree at IMS. \n\nIf you started your IMS degree after Sept. 2024\, attending this lecture in person is a degree requirement.\nIf you started your IMS degree on or before Jan. 2024\, attending this lecture in person is a requirement for MSC1010H/1011H.\n\nIf you have any questions please reach out to Slaghaniya (s.neupane@mail.utoronto.ca) or Joanna (joanna.cunanan@uhn.ca).
URL:https://imssa.ca/event/15th-annual-ori-rotstein-lecture-in-translational-research/
END:VEVENT
END:VCALENDAR