BEGIN:VCALENDAR
VERSION:2.0
PRODID:-// - ECPv6.15.20//NONSGML v1.0//EN
CALSCALE:GREGORIAN
METHOD:PUBLISH
X-ORIGINAL-URL:https://imssa.ca
X-WR-CALDESC:Events for 
REFRESH-INTERVAL;VALUE=DURATION:PT1H
X-Robots-Tag:noindex
X-PUBLISHED-TTL:PT1H
BEGIN:VTIMEZONE
TZID:America/Toronto
BEGIN:DAYLIGHT
TZOFFSETFROM:-0500
TZOFFSETTO:-0400
TZNAME:EDT
DTSTART:20240310T070000
END:DAYLIGHT
BEGIN:STANDARD
TZOFFSETFROM:-0400
TZOFFSETTO:-0500
TZNAME:EST
DTSTART:20241103T060000
END:STANDARD
BEGIN:DAYLIGHT
TZOFFSETFROM:-0500
TZOFFSETTO:-0400
TZNAME:EDT
DTSTART:20250309T070000
END:DAYLIGHT
BEGIN:STANDARD
TZOFFSETFROM:-0400
TZOFFSETTO:-0500
TZNAME:EST
DTSTART:20251102T060000
END:STANDARD
BEGIN:DAYLIGHT
TZOFFSETFROM:-0500
TZOFFSETTO:-0400
TZNAME:EDT
DTSTART:20260308T070000
END:DAYLIGHT
BEGIN:STANDARD
TZOFFSETFROM:-0400
TZOFFSETTO:-0500
TZNAME:EST
DTSTART:20261101T060000
END:STANDARD
END:VTIMEZONE
BEGIN:VEVENT
DTSTART;TZID=America/Toronto:20251120T173000
DTEND;TZID=America/Toronto:20251120T200000
DTSTAMP:20260424T083438
CREATED:20251021T175127Z
LAST-MODIFIED:20251021T175233Z
UID:3061-1763659800-1763668800@imssa.ca
SUMMARY:IMSSA Connects: Working in Academia
DESCRIPTION:The IMS\, in collaboration with the Peer-to-Peer Mentorship Program and IMSSA\, is excited to be hosting IMS Connects: Working in Academia on Thursday\, November 20th from 5:30 – 8:00 PM at the Donnelley Centre. \nJoin us by registering here for this in-person only panel and networking event\, where you can connect with successful professionals working in diverse careers in academia.  All are welcome to attend. Refreshments will be served.
URL:https://imssa.ca/event/3061/
END:VEVENT
END:VCALENDAR