BEGIN:VCALENDAR
VERSION:2.0
PRODID:-// - ECPv6.15.20//NONSGML v1.0//EN
CALSCALE:GREGORIAN
METHOD:PUBLISH
X-ORIGINAL-URL:https://imssa.ca
X-WR-CALDESC:Events for 
REFRESH-INTERVAL;VALUE=DURATION:PT1H
X-Robots-Tag:noindex
X-PUBLISHED-TTL:PT1H
BEGIN:VTIMEZONE
TZID:America/Toronto
BEGIN:DAYLIGHT
TZOFFSETFROM:-0500
TZOFFSETTO:-0400
TZNAME:EDT
DTSTART:20240310T070000
END:DAYLIGHT
BEGIN:STANDARD
TZOFFSETFROM:-0400
TZOFFSETTO:-0500
TZNAME:EST
DTSTART:20241103T060000
END:STANDARD
BEGIN:DAYLIGHT
TZOFFSETFROM:-0500
TZOFFSETTO:-0400
TZNAME:EDT
DTSTART:20250309T070000
END:DAYLIGHT
BEGIN:STANDARD
TZOFFSETFROM:-0400
TZOFFSETTO:-0500
TZNAME:EST
DTSTART:20251102T060000
END:STANDARD
BEGIN:DAYLIGHT
TZOFFSETFROM:-0500
TZOFFSETTO:-0400
TZNAME:EDT
DTSTART:20260308T070000
END:DAYLIGHT
BEGIN:STANDARD
TZOFFSETFROM:-0400
TZOFFSETTO:-0500
TZNAME:EST
DTSTART:20261101T060000
END:STANDARD
END:VTIMEZONE
BEGIN:VEVENT
DTSTART;TZID=America/Toronto:20251126T190000
DTEND;TZID=America/Toronto:20251126T230000
DTSTAMP:20260424T070453
CREATED:20251110T145215Z
LAST-MODIFIED:20251110T145215Z
UID:3099-1764183600-1764198000@imssa.ca
SUMMARY:IMSSA First Sporting Event: Raptors Game Watch Party
DESCRIPTION:We are also hosting our first event of this school year\, which is…. *insert drum roll sound effects”… Raptors game watch party! The event will be held on Nov 26 Wednesday at 7PM at King Taps First Canadian Place. Please click this link to RSVP for the event: https://forms.gle/ZpJjXAU5BwH47nBy6.
URL:https://imssa.ca/event/imssa-first-sporting-event-raptors-game-watch-party/
END:VEVENT
END:VCALENDAR