BEGIN:VCALENDAR
VERSION:2.0
PRODID:-// - ECPv6.15.20//NONSGML v1.0//EN
CALSCALE:GREGORIAN
METHOD:PUBLISH
X-ORIGINAL-URL:https://imssa.ca
X-WR-CALDESC:Events for 
REFRESH-INTERVAL;VALUE=DURATION:PT1H
X-Robots-Tag:noindex
X-PUBLISHED-TTL:PT1H
BEGIN:VTIMEZONE
TZID:America/Toronto
BEGIN:DAYLIGHT
TZOFFSETFROM:-0500
TZOFFSETTO:-0400
TZNAME:EDT
DTSTART:20240310T070000
END:DAYLIGHT
BEGIN:STANDARD
TZOFFSETFROM:-0400
TZOFFSETTO:-0500
TZNAME:EST
DTSTART:20241103T060000
END:STANDARD
BEGIN:DAYLIGHT
TZOFFSETFROM:-0500
TZOFFSETTO:-0400
TZNAME:EDT
DTSTART:20250309T070000
END:DAYLIGHT
BEGIN:STANDARD
TZOFFSETFROM:-0400
TZOFFSETTO:-0500
TZNAME:EST
DTSTART:20251102T060000
END:STANDARD
BEGIN:DAYLIGHT
TZOFFSETFROM:-0500
TZOFFSETTO:-0400
TZNAME:EDT
DTSTART:20260308T070000
END:DAYLIGHT
BEGIN:STANDARD
TZOFFSETFROM:-0400
TZOFFSETTO:-0500
TZNAME:EST
DTSTART:20261101T060000
END:STANDARD
END:VTIMEZONE
BEGIN:VEVENT
DTSTART;TZID=America/Toronto:20251204T100000
DTEND;TZID=America/Toronto:20251204T110000
DTSTAMP:20260424T052350
CREATED:20251201T151636Z
LAST-MODIFIED:20251201T151636Z
UID:3123-1764842400-1764846000@imssa.ca
SUMMARY:First TGH-IMS Coffee Meet-Up of the Year
DESCRIPTION:We’re excited to kick off the year with a coffee meet-up hosted by the Toronto General Hospital (TGH) site – IMSSA group! This is a fantastic opportunity to connect with students from the TGH-IMS community and make new friends over coffee and treats.\nEvent Details:\n Date: Thursday\, December 4\, 2025\n Time: 10:00 – 11:00 am.\n Location: MaRS Building\, in front of Tim Hortons (101 College Street)\nWe’ll provide free coffee and Timbits for everyone to enjoy! To help us plan accordingly and make sure there’s enough for everyone\, we kindly ask you to fill out the RSVP form.\nThanks and looking forward to seeing you there!
URL:https://imssa.ca/event/first-tgh-ims-coffee-meet-up-of-the-year/
END:VEVENT
BEGIN:VEVENT
DTSTART;TZID=America/Toronto:20251204T180000
DTEND;TZID=America/Toronto:20251204T200000
DTSTAMP:20260424T052350
CREATED:20251201T151206Z
LAST-MODIFIED:20251201T151206Z
UID:3115-1764871200-1764878400@imssa.ca
SUMMARY:P2P Mentorship - Thriving Through Grad School Event
DESCRIPTION:The P2P Mentorship is hosting our upcoming virtual event\, Thriving through Grad School. Please see the event information below: \nDate: Thursday\, December 4th\nTime: 6-8pm\nZoom Meeting Link:  https://utoronto.zoom.us/j/86793810342\nMeeting ID: 867 9381 0342 \nPlease fill out this form to let us know if you are coming and to let us know what topics you would like to see us cover:  https://forms.gle/FodxT3ktfwZVEXy4A \nWe are planning to go over a variety of topics including graduate timelines\, student-supervisor dynamics\, courses\, PAC meetings\, as well as external/internal grants and awards from an upper year student perspective. We will also be hosting a Q&A period!
URL:https://imssa.ca/event/p2p-mentorship-thriving-through-grad-school-event/
END:VEVENT
END:VCALENDAR