BEGIN:VCALENDAR
VERSION:2.0
PRODID:-// - ECPv6.15.20//NONSGML v1.0//EN
CALSCALE:GREGORIAN
METHOD:PUBLISH
X-ORIGINAL-URL:https://imssa.ca
X-WR-CALDESC:Events for 
REFRESH-INTERVAL;VALUE=DURATION:PT1H
X-Robots-Tag:noindex
X-PUBLISHED-TTL:PT1H
BEGIN:VTIMEZONE
TZID:America/Toronto
BEGIN:DAYLIGHT
TZOFFSETFROM:-0500
TZOFFSETTO:-0400
TZNAME:EDT
DTSTART:20240310T070000
END:DAYLIGHT
BEGIN:STANDARD
TZOFFSETFROM:-0400
TZOFFSETTO:-0500
TZNAME:EST
DTSTART:20241103T060000
END:STANDARD
BEGIN:DAYLIGHT
TZOFFSETFROM:-0500
TZOFFSETTO:-0400
TZNAME:EDT
DTSTART:20250309T070000
END:DAYLIGHT
BEGIN:STANDARD
TZOFFSETFROM:-0400
TZOFFSETTO:-0500
TZNAME:EST
DTSTART:20251102T060000
END:STANDARD
BEGIN:DAYLIGHT
TZOFFSETFROM:-0500
TZOFFSETTO:-0400
TZNAME:EDT
DTSTART:20260308T070000
END:DAYLIGHT
BEGIN:STANDARD
TZOFFSETFROM:-0400
TZOFFSETTO:-0500
TZNAME:EST
DTSTART:20261101T060000
END:STANDARD
END:VTIMEZONE
BEGIN:VEVENT
DTSTART;TZID=America/Toronto:20251210T180000
DTEND;TZID=America/Toronto:20251210T200000
DTSTAMP:20260424T052349
CREATED:20251201T151455Z
LAST-MODIFIED:20251201T151455Z
UID:3120-1765389600-1765396800@imssa.ca
SUMMARY:IMSSA x UofT LLC x Canadian Blood Services - Holiday Blood Drive
DESCRIPTION:Join us in spreading generosity this holiday season! IMSSA\, in collaboration with UofT LLC and Canadian Blood Services\, is hosting a Holiday Blood Drive on Wednesday\, December 10\, 2025\, from 6–8 PM. \nAll students are invited to sign up\, come out\, and make a meaningful impact—every donation can help save a life. Bring your friends\, enjoy some treats\, and give back to the community during this season of giving. \n Meet at 67 College Street\nOr join the group walk from the UofT Medical Sciences Building at 5:30 PM. \nScan the QR code to register—we hope to see you there!
URL:https://imssa.ca/event/imssa-x-uoft-llc-x-canadian-blood-services-holiday-blood-drive/
END:VEVENT
END:VCALENDAR