BEGIN:VCALENDAR
VERSION:2.0
PRODID:-// - ECPv6.15.20//NONSGML v1.0//EN
CALSCALE:GREGORIAN
METHOD:PUBLISH
X-ORIGINAL-URL:https://imssa.ca
X-WR-CALDESC:Events for 
REFRESH-INTERVAL;VALUE=DURATION:PT1H
X-Robots-Tag:noindex
X-PUBLISHED-TTL:PT1H
BEGIN:VTIMEZONE
TZID:America/Toronto
BEGIN:DAYLIGHT
TZOFFSETFROM:-0500
TZOFFSETTO:-0400
TZNAME:EDT
DTSTART:20250309T070000
END:DAYLIGHT
BEGIN:STANDARD
TZOFFSETFROM:-0400
TZOFFSETTO:-0500
TZNAME:EST
DTSTART:20251102T060000
END:STANDARD
BEGIN:DAYLIGHT
TZOFFSETFROM:-0500
TZOFFSETTO:-0400
TZNAME:EDT
DTSTART:20260308T070000
END:DAYLIGHT
BEGIN:STANDARD
TZOFFSETFROM:-0400
TZOFFSETTO:-0500
TZNAME:EST
DTSTART:20261101T060000
END:STANDARD
BEGIN:DAYLIGHT
TZOFFSETFROM:-0500
TZOFFSETTO:-0400
TZNAME:EDT
DTSTART:20270314T070000
END:DAYLIGHT
BEGIN:STANDARD
TZOFFSETFROM:-0400
TZOFFSETTO:-0500
TZNAME:EST
DTSTART:20271107T060000
END:STANDARD
END:VTIMEZONE
BEGIN:VEVENT
DTSTART;TZID=America/Toronto:20260127T140000
DTEND;TZID=America/Toronto:20260127T153000
DTSTAMP:20260424T034809
CREATED:20260120T020257Z
LAST-MODIFIED:20260120T020257Z
UID:3139-1769522400-1769527800@imssa.ca
SUMMARY:IMS Magazine Workshop
DESCRIPTION:The IMS Magazine will be hosting a workshop\, led by Senior Research Communications Officer Dr. Betty Zou\, on how to plan for\, conduct\, and write about an interview. Dr. Zou will discuss how to get the most out of an interview and tell an impactful story. The workshop will be on Tuesday January 27th from 2-3:30pm over Zoom. Please register below if you are interested!\nhttps://forms.gle/L8bqhGHjnUZKdciw7
URL:https://imssa.ca/event/ims-magazine-workshop/
END:VEVENT
END:VCALENDAR