BEGIN:VCALENDAR
VERSION:2.0
PRODID:-// - ECPv6.15.20//NONSGML v1.0//EN
CALSCALE:GREGORIAN
METHOD:PUBLISH
X-ORIGINAL-URL:https://imssa.ca
X-WR-CALDESC:Events for 
REFRESH-INTERVAL;VALUE=DURATION:PT1H
X-Robots-Tag:noindex
X-PUBLISHED-TTL:PT1H
BEGIN:VTIMEZONE
TZID:America/Toronto
BEGIN:DAYLIGHT
TZOFFSETFROM:-0500
TZOFFSETTO:-0400
TZNAME:EDT
DTSTART:20250309T070000
END:DAYLIGHT
BEGIN:STANDARD
TZOFFSETFROM:-0400
TZOFFSETTO:-0500
TZNAME:EST
DTSTART:20251102T060000
END:STANDARD
BEGIN:DAYLIGHT
TZOFFSETFROM:-0500
TZOFFSETTO:-0400
TZNAME:EDT
DTSTART:20260308T070000
END:DAYLIGHT
BEGIN:STANDARD
TZOFFSETFROM:-0400
TZOFFSETTO:-0500
TZNAME:EST
DTSTART:20261101T060000
END:STANDARD
BEGIN:DAYLIGHT
TZOFFSETFROM:-0500
TZOFFSETTO:-0400
TZNAME:EDT
DTSTART:20270314T070000
END:DAYLIGHT
BEGIN:STANDARD
TZOFFSETFROM:-0400
TZOFFSETTO:-0500
TZNAME:EST
DTSTART:20271107T060000
END:STANDARD
END:VTIMEZONE
BEGIN:VEVENT
DTSTART;TZID=America/Toronto:20260128T180000
DTEND;TZID=America/Toronto:20260128T193000
DTSTAMP:20260424T034941
CREATED:20260126T133149Z
LAST-MODIFIED:20260126T133149Z
UID:3148-1769623200-1769628600@imssa.ca
SUMMARY:Navigating Imposter Syndrome in Academia - A Panel Discussion
DESCRIPTION:Join the IMSSA Wellness Sub-Committee for a panel discussion featuring five speakers who will share their experiences and insights on how they dealt with imposter syndrome during their graduate studies and in medical school! \nFood will be provided\, and there will be an opportunity for Q&A at the end. \nPlease fill out this form to RSVP. \n– Sent on behalf of IMSSA Wellness Subcommittee
URL:https://imssa.ca/event/navigating-imposter-syndrome-in-academia-a-panel-discussion/
END:VEVENT
END:VCALENDAR