BEGIN:VCALENDAR
VERSION:2.0
PRODID:-// - ECPv6.15.20//NONSGML v1.0//EN
CALSCALE:GREGORIAN
METHOD:PUBLISH
X-ORIGINAL-URL:https://imssa.ca
X-WR-CALDESC:Events for 
REFRESH-INTERVAL;VALUE=DURATION:PT1H
X-Robots-Tag:noindex
X-PUBLISHED-TTL:PT1H
BEGIN:VTIMEZONE
TZID:America/Toronto
BEGIN:DAYLIGHT
TZOFFSETFROM:-0500
TZOFFSETTO:-0400
TZNAME:EDT
DTSTART:20250309T070000
END:DAYLIGHT
BEGIN:STANDARD
TZOFFSETFROM:-0400
TZOFFSETTO:-0500
TZNAME:EST
DTSTART:20251102T060000
END:STANDARD
BEGIN:DAYLIGHT
TZOFFSETFROM:-0500
TZOFFSETTO:-0400
TZNAME:EDT
DTSTART:20260308T070000
END:DAYLIGHT
BEGIN:STANDARD
TZOFFSETFROM:-0400
TZOFFSETTO:-0500
TZNAME:EST
DTSTART:20261101T060000
END:STANDARD
BEGIN:DAYLIGHT
TZOFFSETFROM:-0500
TZOFFSETTO:-0400
TZNAME:EDT
DTSTART:20270314T070000
END:DAYLIGHT
BEGIN:STANDARD
TZOFFSETFROM:-0400
TZOFFSETTO:-0500
TZNAME:EST
DTSTART:20271107T060000
END:STANDARD
END:VTIMEZONE
BEGIN:VEVENT
DTSTART;TZID=America/Toronto:20260211T173000
DTEND;TZID=America/Toronto:20260211T193000
DTSTAMP:20260424T021850
CREATED:20260209T183411Z
LAST-MODIFIED:20260209T183628Z
UID:3164-1770831000-1770838200@imssa.ca
SUMMARY:Valentine's Day Crafts Night
DESCRIPTION:Join IMSSA for a fun and relaxed Valentine’s Crafts Night featuring cookie baking\, bath bomb making\, goody bag assembling\, and card making. Whether you’re creating something for a partner\, a friend\, or yourself\, everyone is welcome!\n Feb 11\n 5:30–7:30 PM\n Location: OISE2295 \nPlease sign up here: https://docs.google.com/forms/d/e/1FAIpQLScn1_ty6BMSBlpRiq4mEwZCuMZO5IkrLZPmgqK9doVlkylHFw/viewform?usp=header
URL:https://imssa.ca/event/3164/
END:VEVENT
END:VCALENDAR