BEGIN:VCALENDAR
VERSION:2.0
PRODID:-// - ECPv6.15.20//NONSGML v1.0//EN
CALSCALE:GREGORIAN
METHOD:PUBLISH
X-ORIGINAL-URL:https://imssa.ca
X-WR-CALDESC:Events for 
REFRESH-INTERVAL;VALUE=DURATION:PT1H
X-Robots-Tag:noindex
X-PUBLISHED-TTL:PT1H
BEGIN:VTIMEZONE
TZID:America/Toronto
BEGIN:DAYLIGHT
TZOFFSETFROM:-0500
TZOFFSETTO:-0400
TZNAME:EDT
DTSTART:20250309T070000
END:DAYLIGHT
BEGIN:STANDARD
TZOFFSETFROM:-0400
TZOFFSETTO:-0500
TZNAME:EST
DTSTART:20251102T060000
END:STANDARD
BEGIN:DAYLIGHT
TZOFFSETFROM:-0500
TZOFFSETTO:-0400
TZNAME:EDT
DTSTART:20260308T070000
END:DAYLIGHT
BEGIN:STANDARD
TZOFFSETFROM:-0400
TZOFFSETTO:-0500
TZNAME:EST
DTSTART:20261101T060000
END:STANDARD
BEGIN:DAYLIGHT
TZOFFSETFROM:-0500
TZOFFSETTO:-0400
TZNAME:EDT
DTSTART:20270314T070000
END:DAYLIGHT
BEGIN:STANDARD
TZOFFSETFROM:-0400
TZOFFSETTO:-0500
TZNAME:EST
DTSTART:20271107T060000
END:STANDARD
END:VTIMEZONE
BEGIN:VEVENT
DTSTART;TZID=America/Toronto:20260312T190000
DTEND;TZID=America/Toronto:20260312T210000
DTSTAMP:20260424T004046
CREATED:20260309T185057Z
LAST-MODIFIED:20260309T185057Z
UID:3193-1773342000-1773349200@imssa.ca
SUMMARY:IMS International Community x IMSSA: Iftar
DESCRIPTION:Sign up to join the IMS International Community and IMSSA for an Iftar (dinner) to celebrate the holy month of Ramadan! \n When? Thursday\, March 12th @ 7:00PM\n Where? Zafoon Middle Eastern Restaurant\, 384 College St \nThe restaurant is halal and we will be meeting at 7:00PM to ensure we receive our food by the time we break fast (~7:20PM).\nPlease register only if you are able to attend\, as reservations are limited: https://forms.gle/fcMnGFQ1tFxiyEaF7
URL:https://imssa.ca/event/ims-international-community-x-imssa-iftar/
END:VEVENT
END:VCALENDAR