BEGIN:VCALENDAR
VERSION:2.0
PRODID:-// - ECPv6.15.20//NONSGML v1.0//EN
CALSCALE:GREGORIAN
METHOD:PUBLISH
X-ORIGINAL-URL:https://imssa.ca
X-WR-CALDESC:Events for 
REFRESH-INTERVAL;VALUE=DURATION:PT1H
X-Robots-Tag:noindex
X-PUBLISHED-TTL:PT1H
BEGIN:VTIMEZONE
TZID:America/Toronto
BEGIN:DAYLIGHT
TZOFFSETFROM:-0500
TZOFFSETTO:-0400
TZNAME:EDT
DTSTART:20250309T070000
END:DAYLIGHT
BEGIN:STANDARD
TZOFFSETFROM:-0400
TZOFFSETTO:-0500
TZNAME:EST
DTSTART:20251102T060000
END:STANDARD
BEGIN:DAYLIGHT
TZOFFSETFROM:-0500
TZOFFSETTO:-0400
TZNAME:EDT
DTSTART:20260308T070000
END:DAYLIGHT
BEGIN:STANDARD
TZOFFSETFROM:-0400
TZOFFSETTO:-0500
TZNAME:EST
DTSTART:20261101T060000
END:STANDARD
BEGIN:DAYLIGHT
TZOFFSETFROM:-0500
TZOFFSETTO:-0400
TZNAME:EDT
DTSTART:20270314T070000
END:DAYLIGHT
BEGIN:STANDARD
TZOFFSETFROM:-0400
TZOFFSETTO:-0500
TZNAME:EST
DTSTART:20271107T060000
END:STANDARD
END:VTIMEZONE
BEGIN:VEVENT
DTSTART;TZID=America/Toronto:20260407T120000
DTEND;TZID=America/Toronto:20260407T140000
DTSTAMP:20260423T230546
CREATED:20260323T141100Z
LAST-MODIFIED:20260323T141100Z
UID:3211-1775563200-1775570400@imssa.ca
SUMMARY:Medical Research Advocacy Workshop
DESCRIPTION:IMSSA is hosting a Medical Research Advocacy Workshop for graduate students interested in learning how patient partnerships and research advocacy shape medical science across academia\, clinical practice\, industry\, and policy. Whether you’re in basic research\, clinical science\, or considering a career in industry or policy\, this workshop will provide insight into how advocacy and patient engagement can shape your work and its broader impact.\nHear from Dr. David Malkin (Clinician-Scientist\, The Hospital for Sick Children)\, Antonia Palmer (Executive Director\, Kindred Foundation; Co-Founder\, Canadian Childhood Oncology Research Network)\, and a representative from Roche Canada as they discuss what advocacy and patient partnerships look like in their respective areas of work. The session will include talks from each speaker followed by an open Q&A. \nDate: Tuesday\, April 7th\, 2026\nTime: 12:00 PM\nLocation: Zoom\nRegister here: https://forms.gle/r7n2gH3AaJUb9KbX9
URL:https://imssa.ca/event/medical-research-advocacy-workshop/
END:VEVENT
END:VCALENDAR