BEGIN:VCALENDAR
VERSION:2.0
PRODID:-// - ECPv6.15.20//NONSGML v1.0//EN
CALSCALE:GREGORIAN
METHOD:PUBLISH
X-ORIGINAL-URL:https://imssa.ca
X-WR-CALDESC:Events for 
REFRESH-INTERVAL;VALUE=DURATION:PT1H
X-Robots-Tag:noindex
X-PUBLISHED-TTL:PT1H
BEGIN:VTIMEZONE
TZID:America/Toronto
BEGIN:DAYLIGHT
TZOFFSETFROM:-0500
TZOFFSETTO:-0400
TZNAME:EDT
DTSTART:20250309T070000
END:DAYLIGHT
BEGIN:STANDARD
TZOFFSETFROM:-0400
TZOFFSETTO:-0500
TZNAME:EST
DTSTART:20251102T060000
END:STANDARD
BEGIN:DAYLIGHT
TZOFFSETFROM:-0500
TZOFFSETTO:-0400
TZNAME:EDT
DTSTART:20260308T070000
END:DAYLIGHT
BEGIN:STANDARD
TZOFFSETFROM:-0400
TZOFFSETTO:-0500
TZNAME:EST
DTSTART:20261101T060000
END:STANDARD
BEGIN:DAYLIGHT
TZOFFSETFROM:-0500
TZOFFSETTO:-0400
TZNAME:EDT
DTSTART:20270314T070000
END:DAYLIGHT
BEGIN:STANDARD
TZOFFSETFROM:-0400
TZOFFSETTO:-0500
TZNAME:EST
DTSTART:20271107T060000
END:STANDARD
END:VTIMEZONE
BEGIN:VEVENT
DTSTART;TZID=America/Toronto:20260409T130000
DTEND;TZID=America/Toronto:20260409T140000
DTSTAMP:20260423T230712
CREATED:20260406T160701Z
LAST-MODIFIED:20260406T160701Z
UID:3218-1775739600-1775743200@imssa.ca
SUMMARY:IMS Connects Virtual: Careers in Public Health
DESCRIPTION:Join us for a virtual panel featuring accomplished IMS alumni who are shaping the future of public health across Canada. Moderated by Dr. Pamela Plant (IMS Director of Graduate Professional Development)\, this session will highlight diverse career pathways and the real-world impact of interdisciplinary training. \nHear from Lauren de Freitas (Ontario Health)\, Serena Peck (Vancouver Island Health Authority)\, and Dr. Andrea Tyler (Public Health Agency of Canada) as they share their experiences across mental health systems\, primary care innovation\, and national genomics initiatives. \nDon’t miss this opportunity to gain insights\, ask questions\, and find inspiration for your own career path!\nRegister here: https://utoronto.zoom.us/meeting/register/GB9vmC75QWyqXW-6HtxkfA#/registration
URL:https://imssa.ca/event/ims-connects-virtual-careers-in-public-health/
END:VEVENT
END:VCALENDAR