BEGIN:VCALENDAR
VERSION:2.0
PRODID:-// - ECPv6.15.20//NONSGML v1.0//EN
CALSCALE:GREGORIAN
METHOD:PUBLISH
X-ORIGINAL-URL:https://imssa.ca
X-WR-CALDESC:Events for 
REFRESH-INTERVAL;VALUE=DURATION:PT1H
X-Robots-Tag:noindex
X-PUBLISHED-TTL:PT1H
BEGIN:VTIMEZONE
TZID:America/Toronto
BEGIN:DAYLIGHT
TZOFFSETFROM:-0500
TZOFFSETTO:-0400
TZNAME:EDT
DTSTART:20250309T070000
END:DAYLIGHT
BEGIN:STANDARD
TZOFFSETFROM:-0400
TZOFFSETTO:-0500
TZNAME:EST
DTSTART:20251102T060000
END:STANDARD
BEGIN:DAYLIGHT
TZOFFSETFROM:-0500
TZOFFSETTO:-0400
TZNAME:EDT
DTSTART:20260308T070000
END:DAYLIGHT
BEGIN:STANDARD
TZOFFSETFROM:-0400
TZOFFSETTO:-0500
TZNAME:EST
DTSTART:20261101T060000
END:STANDARD
BEGIN:DAYLIGHT
TZOFFSETFROM:-0500
TZOFFSETTO:-0400
TZNAME:EDT
DTSTART:20270314T070000
END:DAYLIGHT
BEGIN:STANDARD
TZOFFSETFROM:-0400
TZOFFSETTO:-0500
TZNAME:EST
DTSTART:20271107T060000
END:STANDARD
END:VTIMEZONE
BEGIN:VEVENT
DTSTART;TZID=America/Toronto:20260420T180000
DTEND;TZID=America/Toronto:20260420T200000
DTSTAMP:20260423T230841
CREATED:20260421T155724Z
LAST-MODIFIED:20260421T155724Z
UID:3230-1776708000-1776715200@imssa.ca
SUMMARY:IMSSA 3MT Research Showcase
DESCRIPTION:Dear IMS Students\,\n\nThe Institute of Medical Science Students’ Association (IMSSA) is excited to host our department-wide 3 Minute Thesis (3MT)-style Research Showcase.\n\nThis event is a great opportunity to prepare for Scientific Day by sharing your research with IMS peers and faculty in a concise\, engaging format. Participants will receive feedback on their presentation style and scientific communication\, while also gaining visibility within the program.\n\nPresenters will be selected based on abstract submissions. Those selected will present live at the event and compete for $225 in cash prizes\, with top presentations having the opportunity to be featured within the IMS community. \nEvent Details\nDate: April 20\, 2026 \nTime: 6:00–8:00 PM \nLocation: Hart House East Common Room \n\nAttendee Registration (Tickets are limited!) \nRegister here: https://forms.gle/FbVuSuRWk63rzMC97 \n\nDetailed eligibility criteria and submission guidelines can be found here:\nhttps://drive.google.com/file/d/1O4MCEkBNFRR1VcCAA0zkqBWais5o7PiO/view?usp=sharing\nWhether you are early in your program or preparing for upcoming presentations\, this is a strong opportunity to refine how you communicate your work and share it with the broader IMS community. If you have any questions\, please contact Richard Xi (Director of Academic Affairs) at imssa.academics@gmail.com.\nWe look forward to your submissions!
URL:https://imssa.ca/event/imssa-3mt-research-showcase/
END:VEVENT
END:VCALENDAR