BEGIN:VCALENDAR
VERSION:2.0
PRODID:-// - ECPv6.15.20//NONSGML v1.0//EN
CALSCALE:GREGORIAN
METHOD:PUBLISH
X-ORIGINAL-URL:https://imssa.ca
X-WR-CALDESC:Events for 
REFRESH-INTERVAL;VALUE=DURATION:PT1H
X-Robots-Tag:noindex
X-PUBLISHED-TTL:PT1H
BEGIN:VTIMEZONE
TZID:America/Toronto
BEGIN:DAYLIGHT
TZOFFSETFROM:-0500
TZOFFSETTO:-0400
TZNAME:EDT
DTSTART:20250309T070000
END:DAYLIGHT
BEGIN:STANDARD
TZOFFSETFROM:-0400
TZOFFSETTO:-0500
TZNAME:EST
DTSTART:20251102T060000
END:STANDARD
BEGIN:DAYLIGHT
TZOFFSETFROM:-0500
TZOFFSETTO:-0400
TZNAME:EDT
DTSTART:20260308T070000
END:DAYLIGHT
BEGIN:STANDARD
TZOFFSETFROM:-0400
TZOFFSETTO:-0500
TZNAME:EST
DTSTART:20261101T060000
END:STANDARD
BEGIN:DAYLIGHT
TZOFFSETFROM:-0500
TZOFFSETTO:-0400
TZNAME:EDT
DTSTART:20270314T070000
END:DAYLIGHT
BEGIN:STANDARD
TZOFFSETFROM:-0400
TZOFFSETTO:-0500
TZNAME:EST
DTSTART:20271107T060000
END:STANDARD
END:VTIMEZONE
BEGIN:VEVENT
DTSTART;TZID=America/Toronto:20260311T183000
DTEND;TZID=America/Toronto:20260311T210000
DTSTAMP:20260424T100314
CREATED:20260306T142507Z
LAST-MODIFIED:20260306T142537Z
UID:3185-1773253800-1773262800@imssa.ca
SUMMARY:Crafting Connections
DESCRIPTION:IMSSA Community & Outreach is excited to present Crafting Connections — an evening of creativity\, conversation\, and community building with seniors at Venvi the Annex Retirement Residence. \nJoin us as we make beautiful crepe paper flower bouquets together and spend meaningful time connecting across generations. This event is a wonderful opportunity to give back\, brighten someone’s day\, and foster genuine relationships within our local community. \n Wednesday\, March 11th at 6:30 PM\n 123 Spadina Rd\, Toronto\n(Option to meet at Robarts Library at 6:00 PM to walk over together.) \nSign up using the QR code to participate!
URL:https://imssa.ca/event/crafting-connections/
END:VEVENT
BEGIN:VEVENT
DTSTART;TZID=America/Toronto:20260312T190000
DTEND;TZID=America/Toronto:20260312T210000
DTSTAMP:20260424T100314
CREATED:20260309T185057Z
LAST-MODIFIED:20260309T185057Z
UID:3193-1773342000-1773349200@imssa.ca
SUMMARY:IMS International Community x IMSSA: Iftar
DESCRIPTION:Sign up to join the IMS International Community and IMSSA for an Iftar (dinner) to celebrate the holy month of Ramadan! \n When? Thursday\, March 12th @ 7:00PM\n Where? Zafoon Middle Eastern Restaurant\, 384 College St \nThe restaurant is halal and we will be meeting at 7:00PM to ensure we receive our food by the time we break fast (~7:20PM).\nPlease register only if you are able to attend\, as reservations are limited: https://forms.gle/fcMnGFQ1tFxiyEaF7
URL:https://imssa.ca/event/ims-international-community-x-imssa-iftar/
END:VEVENT
BEGIN:VEVENT
DTSTART;TZID=America/Toronto:20260313T120000
DTEND;TZID=America/Toronto:20260313T133000
DTSTAMP:20260424T100314
CREATED:20260309T185456Z
LAST-MODIFIED:20260309T185456Z
UID:3202-1773403200-1773408600@imssa.ca
SUMMARY:MaRS Pi(zza) Day
DESCRIPTION:On behalf of MaRS Site directors: MaRS is hosting an early Pi Day pizza party on Friday\, March 13th 2026 from 12:00 to 1:30pm\, hosted at the MaRS East Tower (101 College St.) 2nd floor Conference room (Room 2-821). Scan QR code to RSVP!
URL:https://imssa.ca/event/mars-pizza-day/
END:VEVENT
BEGIN:VEVENT
DTSTART;TZID=America/Toronto:20260316T180000
DTEND;TZID=America/Toronto:20260316T200000
DTSTAMP:20260424T100314
CREATED:20260309T185207Z
LAST-MODIFIED:20260309T185207Z
UID:3196-1773684000-1773691200@imssa.ca
SUMMARY:P2P: Wellness Workshop & Mentorship Social
DESCRIPTION:The P2P Mentorship Program is hosting a Wellness Workshop for IMS students.  Join us for an evening to unwind\, connect with fellow peers\, and take a short break from your research. We will have arts and crafts\, games\, and plenty of food and drinks. \nPlease see the event details below. \nDate and time: Monday\, March 16\, 6:00 to 8:00 PM\nLocation: Bahen Centre\, 40 St. George Street\, Room 2155 \nSpots are limited\, so please register here: https://forms.gle/SkbP7gsQAZDsVzPM6 \nWe hope you can join us for a relaxed and fun evening with the IMS community. Looking forward to seeing you there.
URL:https://imssa.ca/event/p2p-wellness-workshop-mentorship-social/
END:VEVENT
BEGIN:VEVENT
DTSTART;TZID=America/Toronto:20260319T173000
DTEND;TZID=America/Toronto:20260319T193000
DTSTAMP:20260424T100314
CREATED:20260306T142625Z
LAST-MODIFIED:20260306T142625Z
UID:3189-1773941400-1773948600@imssa.ca
SUMMARY:Are You Smarter than a Grad Student?
DESCRIPTION:Join us for an exciting Trivia Night hosted by the IMSSA Academic Affairs Team! Get ready for a fun\, fast-paced evening with questions across a mix of topics\, open to all students\, any level. \n Food provided\n 3 main prizes + smaller prizes\n $300 worth of prizes up for grabs!\n Thursday\, March 19\n 5:30 – 7:30 PM\n Sydney Smith Hall (SS 2105)\, 100 St George St\, Toronto\nBring your friends\, test your knowledge\, and don’t miss out on the fun!\n Register via the QR code on the poster
URL:https://imssa.ca/event/are-you-smarter-than-a-grad-student/
END:VEVENT
BEGIN:VEVENT
DTSTART;TZID=America/Toronto:20260326T180000
DTEND;TZID=America/Toronto:20260326T203000
DTSTAMP:20260424T100314
CREATED:20260323T140935Z
LAST-MODIFIED:20260323T140935Z
UID:3208-1774548000-1774557000@imssa.ca
SUMMARY:Healthcare Innovation Challenge: Improving Rural and Remote Healthcare in Canada
DESCRIPTION:Watch our Top 5 teams pitch their AI solutions—plus a panel on the future of rural and remote healthcare in Canada. \nAs part of this year’s Healthcare Innovation Challenge Finals\, we’re hosting a thought‑provoking panel discussion exploring one of Canada’s most pressing questions: \nWhat does the future of rural and remote healthcare look like—and how can AI help shape it? \nOur distinguished panel of leaders in medicine\, data science\, health innovation\, and primary‑care transformation will share insights on current challenges\, emerging opportunities\, and the role of responsible AI in strengthening healthcare access across rural communities. \nFollowing the panel\, our Top 5 finalist teams will take the stage to pitch their AI‑driven solutions for a chance to win $5\,000 in prizes. \nJoin us for an evening of expert perspectives\, innovative ideas\, refreshments\, and raffle prizes. We look forward to an inspiring conversation and an exciting finale to this year’s challenge. \nRegister with this registration link!
URL:https://imssa.ca/event/healthcare-innovation-challenge-improving-rural-and-remote-healthcare-in-canada/
END:VEVENT
BEGIN:VEVENT
DTSTART;TZID=America/Toronto:20260401T170000
DTEND;TZID=America/Toronto:20260401T200000
DTSTAMP:20260424T100314
CREATED:20260309T185324Z
LAST-MODIFIED:20260309T185324Z
UID:3199-1775062800-1775073600@imssa.ca
SUMMARY:MedComic Con 2026
DESCRIPTION:Get ready for MedComic Con 2026\, brought to you by IMS and BMC students! This in-person event is the perfect opportunity to dive into the world of science comics and enjoy awesome talks and activities. \nMedComic Con is designed like a traditional academic conference but with a creative twist! Listen to inspiring speakers in the field of Graphic Medicine\, participate in a hands-on drawing workshop\, browse comic books\, and engage in a dynamic poster session showcasing the latest medical science research in comic format. \nRegistration is free\, and refreshments are provided. Spots are limited\, so grab your tickets NOW at: https://www.eventbrite.com/e/medcomic-con-2026-uoft-tickets-1984440994434?aff=oddtdtcreator
URL:https://imssa.ca/event/medcomic-con-2026/
END:VEVENT
BEGIN:VEVENT
DTSTART;TZID=America/Toronto:20260407T120000
DTEND;TZID=America/Toronto:20260407T140000
DTSTAMP:20260424T100314
CREATED:20260323T141100Z
LAST-MODIFIED:20260323T141100Z
UID:3211-1775563200-1775570400@imssa.ca
SUMMARY:Medical Research Advocacy Workshop
DESCRIPTION:IMSSA is hosting a Medical Research Advocacy Workshop for graduate students interested in learning how patient partnerships and research advocacy shape medical science across academia\, clinical practice\, industry\, and policy. Whether you’re in basic research\, clinical science\, or considering a career in industry or policy\, this workshop will provide insight into how advocacy and patient engagement can shape your work and its broader impact.\nHear from Dr. David Malkin (Clinician-Scientist\, The Hospital for Sick Children)\, Antonia Palmer (Executive Director\, Kindred Foundation; Co-Founder\, Canadian Childhood Oncology Research Network)\, and a representative from Roche Canada as they discuss what advocacy and patient partnerships look like in their respective areas of work. The session will include talks from each speaker followed by an open Q&A. \nDate: Tuesday\, April 7th\, 2026\nTime: 12:00 PM\nLocation: Zoom\nRegister here: https://forms.gle/r7n2gH3AaJUb9KbX9
URL:https://imssa.ca/event/medical-research-advocacy-workshop/
END:VEVENT
BEGIN:VEVENT
DTSTART;TZID=America/Toronto:20260408T173000
DTEND;TZID=America/Toronto:20260408T193000
DTSTAMP:20260424T100314
CREATED:20260406T160538Z
LAST-MODIFIED:20260406T160538Z
UID:3215-1775669400-1775676600@imssa.ca
SUMMARY:IMSSA Site Directors Present: The Site Cup
DESCRIPTION:Join the IMSSA Site Directors at the Rec Room on Wednesday\, April 8th\, from 5:30-7:30PM for the Site Cup! Each IMS site will form a team and compete against the other sites. The site with the most points at the end of the event will collect the combined points from all competing sites and earn prizes. Scan the QR code or click the link below to sign up with your site team. We look forward to seeing you there! \nRegister here: https://docs.google.com/forms/d/e/1FAIpQLSfUuEeutiCHMZa6KJGI_MKXTxriHK7ck6fOuwyLTZxi0hVxcg/viewform
URL:https://imssa.ca/event/imssa-site-directors-present-the-site-cup/
END:VEVENT
BEGIN:VEVENT
DTSTART;TZID=America/Toronto:20260409T130000
DTEND;TZID=America/Toronto:20260409T140000
DTSTAMP:20260424T100314
CREATED:20260406T160701Z
LAST-MODIFIED:20260406T160701Z
UID:3218-1775739600-1775743200@imssa.ca
SUMMARY:IMS Connects Virtual: Careers in Public Health
DESCRIPTION:Join us for a virtual panel featuring accomplished IMS alumni who are shaping the future of public health across Canada. Moderated by Dr. Pamela Plant (IMS Director of Graduate Professional Development)\, this session will highlight diverse career pathways and the real-world impact of interdisciplinary training. \nHear from Lauren de Freitas (Ontario Health)\, Serena Peck (Vancouver Island Health Authority)\, and Dr. Andrea Tyler (Public Health Agency of Canada) as they share their experiences across mental health systems\, primary care innovation\, and national genomics initiatives. \nDon’t miss this opportunity to gain insights\, ask questions\, and find inspiration for your own career path!\nRegister here: https://utoronto.zoom.us/meeting/register/GB9vmC75QWyqXW-6HtxkfA#/registration
URL:https://imssa.ca/event/ims-connects-virtual-careers-in-public-health/
END:VEVENT
BEGIN:VEVENT
DTSTART;TZID=America/Toronto:20260414T173000
DTEND;TZID=America/Toronto:20260414T203000
DTSTAMP:20260424T100314
CREATED:20260406T160920Z
LAST-MODIFIED:20260406T160920Z
UID:3221-1776187800-1776198600@imssa.ca
SUMMARY:IMS International Community Language Exchange Social
DESCRIPTION: Join Us for Language Exchange Night! \nWant to practice a new language\, meet new friends\, and have fun? Whether you’re a beginner\, fluent in multiple languages\, or simply want to socialize with fellow domestic or international IMS students\, this event is a great way to connect\, chat\, and learn from each other through interactive games! Some light appetizers will be served.\n When? Tuesday\, April 14 @ 5:30PM\n Where? clubhouse @ STACKT market\n Who? Anyone interested in learning through games! \nPlease register below \nhttps://forms.gle/UH7KeCDVi1AMeBv27
URL:https://imssa.ca/event/ims-international-community-language-exchange-social/
END:VEVENT
BEGIN:VEVENT
DTSTART;TZID=America/Toronto:20260415T120000
DTEND;TZID=America/Toronto:20260415T140000
DTSTAMP:20260424T100314
CREATED:20260406T161101Z
LAST-MODIFIED:20260406T161101Z
UID:3224-1776254400-1776261600@imssa.ca
SUMMARY:P2P x IMSSA Academics - Transfer & Qualifying Workshop
DESCRIPTION:IMS P2P Mentorship Program and IMSSA Academics are excited to partner to bring you a workshop focused on the MSc to PhD transfer and the PhD Qualifying Exam at IMS. \nJoin us to gain practical insights on navigating the process\, crafting a strong proposal\, and preparing for the exam with confidence. \nDate: Wednesday\, April 15\nTime: 12 PM to 2 PM\nLocation: Virtual\, link will be shared with registrants closer to the event \nPlease sign up using this link: https://forms.gle/zFs8jaAtLS3Tgi1Z6
URL:https://imssa.ca/event/p2p-x-imssa-academics-transfer-qualifying-workshop/
END:VEVENT
BEGIN:VEVENT
DTSTART;TZID=America/Toronto:20260420T180000
DTEND;TZID=America/Toronto:20260420T200000
DTSTAMP:20260424T100314
CREATED:20260421T155724Z
LAST-MODIFIED:20260421T155724Z
UID:3230-1776708000-1776715200@imssa.ca
SUMMARY:IMSSA 3MT Research Showcase
DESCRIPTION:Dear IMS Students\,\n\nThe Institute of Medical Science Students’ Association (IMSSA) is excited to host our department-wide 3 Minute Thesis (3MT)-style Research Showcase.\n\nThis event is a great opportunity to prepare for Scientific Day by sharing your research with IMS peers and faculty in a concise\, engaging format. Participants will receive feedback on their presentation style and scientific communication\, while also gaining visibility within the program.\n\nPresenters will be selected based on abstract submissions. Those selected will present live at the event and compete for $225 in cash prizes\, with top presentations having the opportunity to be featured within the IMS community. \nEvent Details\nDate: April 20\, 2026 \nTime: 6:00–8:00 PM \nLocation: Hart House East Common Room \n\nAttendee Registration (Tickets are limited!) \nRegister here: https://forms.gle/FbVuSuRWk63rzMC97 \n\nDetailed eligibility criteria and submission guidelines can be found here:\nhttps://drive.google.com/file/d/1O4MCEkBNFRR1VcCAA0zkqBWais5o7PiO/view?usp=sharing\nWhether you are early in your program or preparing for upcoming presentations\, this is a strong opportunity to refine how you communicate your work and share it with the broader IMS community. If you have any questions\, please contact Richard Xi (Director of Academic Affairs) at imssa.academics@gmail.com.\nWe look forward to your submissions!
URL:https://imssa.ca/event/imssa-3mt-research-showcase/
END:VEVENT
BEGIN:VEVENT
DTSTART;TZID=America/Toronto:20260422T163000
DTEND;TZID=America/Toronto:20260422T180000
DTSTAMP:20260424T100314
CREATED:20260406T161227Z
LAST-MODIFIED:20260406T161227Z
UID:3227-1776875400-1776880800@imssa.ca
SUMMARY:Fast Talk\, Friendly Faces - Present Your Research
DESCRIPTION:Looking for a low-pressure way to share your research and get feedback? Join us for Fast Talks\, Friendly Faces\, a supportive and engaging event where UofT STEM students present their work in 7-minute talks. Register to present or attend via the QR codes on the poster! \n Location: Hart House \n Date: Wednesday\, April 22\, 2026 \n Time: 4:30 PM – 6:00 PM \n Refreshments provided
URL:https://imssa.ca/event/fast-talk-friendly-faces-present-your-research/
END:VEVENT
BEGIN:VEVENT
DTSTART;TZID=America/Toronto:20260424T080000
DTEND;TZID=America/Toronto:20260424T170000
DTSTAMP:20260424T100314
CREATED:20260421T155952Z
LAST-MODIFIED:20260421T155952Z
UID:3236-1777017600-1777050000@imssa.ca
SUMMARY:IMS Scientific Day
DESCRIPTION:
URL:https://imssa.ca/event/ims-scientific-day/
END:VEVENT
BEGIN:VEVENT
DTSTART;TZID=America/Toronto:20260424T170000
DTEND;TZID=America/Toronto:20260424T200000
DTSTAMP:20260424T100314
CREATED:20260323T140738Z
LAST-MODIFIED:20260323T140738Z
UID:3205-1777050000-1777060800@imssa.ca
SUMMARY:IMS Scientific Day Social
DESCRIPTION:The Institute of Medical Science Student Association (IMSSA) is hosting the post-IMS Scientific Day Social Event! \nCome join us for a fun night of pool\, pinball\, arcade games\, and food at The Copper Boot (171 College St\, Toronto\, ON M5T 1P7) on Friday\, April 24th\, 2026\, from 5:00 PM – 8:00 PM! \nSpaces are limited\, so sign up fast at: https://forms.gle/mqG2SjL6ThQ5vsp37
URL:https://imssa.ca/event/ims-scientific-day-social/
END:VEVENT
BEGIN:VEVENT
DTSTART;TZID=America/Toronto:20260426T100000
DTEND;TZID=America/Toronto:20260426T120000
DTSTAMP:20260424T100314
CREATED:20260421T160140Z
LAST-MODIFIED:20260421T160140Z
UID:3238-1777197600-1777204800@imssa.ca
SUMMARY:IMSSA Earth Day Campus Clean Up
DESCRIPTION:In celebration of Earth Week\, the IMSSA Wellness and Community Outreach team is hosting a campus clean-up near the St. George campus as part of Clean Toronto Together. We have registered with the City of Toronto and are currently awaiting confirmation of our exact clean-up location\, but it will be near campus. \nThe date and time are confirmed for Sunday\, April 26 at 10:00 a.m. The location is still to be determined. \nPlease complete this form (https://forms.gle/bp5Wdyf2btASf8uQA)\, as required\, so we can contact you with the final meeting location and any additional event details once they are confirmed.\nThank you\, and happy Earth Week!
URL:https://imssa.ca/event/imssa-earth-day-campus-clean-up/
END:VEVENT
BEGIN:VEVENT
DTSTART;TZID=America/Toronto:20260504T180000
DTEND;TZID=America/Toronto:20260504T190000
DTSTAMP:20260424T100314
CREATED:20260421T171403Z
LAST-MODIFIED:20260421T171403Z
UID:3242-1777917600-1777921200@imssa.ca
SUMMARY:IMSSA Wellness x Sporting Running Club
DESCRIPTION:It’s April\, and the sun is finally shining! Want to get away from your desk and run with your fellow IMS students? IMS Wellness x Sporting is starting a casual running club. We will meet Mondays at 6PM starting on May 4th at King’s College Circle. See you then!
URL:https://imssa.ca/event/imssa-wellness-x-sporting-running-club/
END:VEVENT
BEGIN:VEVENT
DTSTART;TZID=America/Toronto:20260514T123000
DTEND;TZID=America/Toronto:20260514T170000
DTSTAMP:20260424T100314
CREATED:20260421T171653Z
LAST-MODIFIED:20260421T171653Z
UID:3246-1778761800-1778778000@imssa.ca
SUMMARY:Longevity Research Circle Presents: Toronto Aging Biology Symposium
DESCRIPTION:The Toronto Aging Biology Symposium (TABS) is an annual symposium where we’ve invited internationally recognized academic and industry scientists in longevity and regenerative medicine to give research talks to UofT trainees. Our goal is to inform and promote discourse on research amongst trainees. \nJoin us on May 14 at Stratchan Hall for the Toronto Aging Biology Symposium! \n🧬 Internationally recognized leaders and scientists from Uoft\, Altos Labs\, BlueRock Therapeutics\, MDI Bio Lab\, InsideTracker\, YouthBio\, Continuum\, and more will cover topics including research\, clinical translation\, startups and venture capital. \n📝 Sign up (FREE of cost!) for a day of talks\, panels\, and networking from 12:30PM to 5PM. Refreshments will be provided. \nRegister using the link below! \n\n🔗: https://longevityresearchcircle.org/tabs
URL:https://imssa.ca/event/longevity-research-circle-presents-toronto-aging-biology-symposium/
END:VEVENT
END:VCALENDAR