BEGIN:VCALENDAR
VERSION:2.0
PRODID:-// - ECPv6.15.20//NONSGML v1.0//EN
CALSCALE:GREGORIAN
METHOD:PUBLISH
X-ORIGINAL-URL:https://imssa.ca
X-WR-CALDESC:Events for 
REFRESH-INTERVAL;VALUE=DURATION:PT1H
X-Robots-Tag:noindex
X-PUBLISHED-TTL:PT1H
BEGIN:VTIMEZONE
TZID:America/Toronto
BEGIN:DAYLIGHT
TZOFFSETFROM:-0500
TZOFFSETTO:-0400
TZNAME:EDT
DTSTART:20240310T070000
END:DAYLIGHT
BEGIN:STANDARD
TZOFFSETFROM:-0400
TZOFFSETTO:-0500
TZNAME:EST
DTSTART:20241103T060000
END:STANDARD
BEGIN:DAYLIGHT
TZOFFSETFROM:-0500
TZOFFSETTO:-0400
TZNAME:EDT
DTSTART:20250309T070000
END:DAYLIGHT
BEGIN:STANDARD
TZOFFSETFROM:-0400
TZOFFSETTO:-0500
TZNAME:EST
DTSTART:20251102T060000
END:STANDARD
BEGIN:DAYLIGHT
TZOFFSETFROM:-0500
TZOFFSETTO:-0400
TZNAME:EDT
DTSTART:20260308T070000
END:DAYLIGHT
BEGIN:STANDARD
TZOFFSETFROM:-0400
TZOFFSETTO:-0500
TZNAME:EST
DTSTART:20261101T060000
END:STANDARD
END:VTIMEZONE
BEGIN:VEVENT
DTSTART;TZID=America/Toronto:20250611T083000
DTEND;TZID=America/Toronto:20250611T170000
DTSTAMP:20260424T121304
CREATED:20250512T134925Z
LAST-MODIFIED:20250512T134925Z
UID:2763-1749630600-1749661200@imssa.ca
SUMMARY:Temerty Faculty of Medicine Research Showcase
DESCRIPTION:Dear Temerty Faculty of Medicine Members\, \nWe are thrilled to announce that registration is now open for the third Temerty Faculty of Medicine Research Showcase\, which will take place on Friday\, July 11 from 8:30 AM – 5:00 PM at the Bahen Centre for Information Technology (40 St. George Street). We aim for this event to bring together research-based upper-year undergraduate students\, graduate students\, medical students\, postdoctoral fellows\, faculty\, and staff from the various graduate and clinical departments across the Temerty Faculty of Medicine for a day of networking\, collaboration\, and learning. \nTo register for this FREE event\, click below!\n\n\n\n\n\n\n\n\n\n\n\n\n\n\n\n\n\nRegister TODAY!\n\n\n\n\n\n\n\n\nEvent Program \n\nKeynote Presentation: An invited speaker will showcase their work and facilitate an engaging question & answer segment following their talk.\nResearch Symposia & Poster Sessions: At registration\, trainees and postdoctoral fellows are invited to submit poster abstracts. The top 12 abstracts will be selected for presentation during symposium talks at the event. Please note that we require that you complete both the registration and abstract & panel submission forms by Tuesday\, June 10 at 11:59 PM. Prizes will be given to top presenters!\nPI Talks: This engaging session aims to provide attendees with a discussion of research methods\, experimental design\, troubleshooting strategies\, and more.\nCareer Coffee Chats: Attendees will be matched to 3 professionals based on the attendees’ sector preferences at registration. Attendee spots will be available on a first-come\, first-serve basis and will be limited to ensure productive conversations with our guests.\nMentorship Panels: At the end of the showcase\, we will host the following two mentorship panels that allow attendees to hear from trainee and mentor figures from their aspiring field:\n\nApplying & getting into graduate and medical school\nNavigating a post-graduate career in industry\n\n\n\n\n\n\n\n\n\n\n\nSubmit your Abstract TODAY!\n\n\n\n\n\n\n\n\n\n\n\n\n\n\n\n\nRegistration will close on or before Friday\, June 10 at 11:59 PM\, pending ticket availability. Should you have any questions or require additional information\, please visit our website or reach out to us at temerty.research.showcase@utoronto.ca.
URL:https://imssa.ca/event/temerty-faculty-of-medicine-research-showcase/
END:VEVENT
BEGIN:VEVENT
DTSTART;TZID=America/Toronto:20250609T180000
DTEND;TZID=America/Toronto:20250609T200000
DTSTAMP:20260424T121304
CREATED:20250602T150553Z
LAST-MODIFIED:20250602T150553Z
UID:2808-1749492000-1749499200@imssa.ca
SUMMARY:IMSSA Multi-Site Board Games Night
DESCRIPTION:Have a chill night playing board games brought to you by MaRS\, St. Michael\, Mt. Sinai/Toronto Rehab\, PMH\, and Sickkids! The board games entry will be free on Monday June 9th\, 6-8pm. Please RSVP below! Please contact your respective site directors if you have any questions. Registration link: https://forms.gle/yyxCom7n9xfdzkyH6
URL:https://imssa.ca/event/imssa-multi-site-board-games-night/
END:VEVENT
BEGIN:VEVENT
DTSTART;TZID=America/Toronto:20250604T180000
DTEND;TZID=America/Toronto:20250604T200000
DTSTAMP:20260424T121304
CREATED:20250602T150750Z
LAST-MODIFIED:20250602T150750Z
UID:2811-1749060000-1749067200@imssa.ca
SUMMARY:CAMH - Welcome The Summer
DESCRIPTION:All CAMH IMS students\, we are looking forward to catching up\, enjoying the weather\, and good foods and drinks on June 4th! Please sign up using the QR code.
URL:https://imssa.ca/event/camh-welcome-the-summer/
END:VEVENT
BEGIN:VEVENT
DTSTART;TZID=America/Toronto:20250529T170000
DTEND;TZID=America/Toronto:20250529T190000
DTSTAMP:20260424T121304
CREATED:20250523T154947Z
LAST-MODIFIED:20250523T154947Z
UID:2766-1748538000-1748545200@imssa.ca
SUMMARY:🎨 Tote Bag Painting Art Workshop for IMS Graduate Students 🎨
DESCRIPTION:Looking for a creative way to unwind? Join us for a relaxing evening of art\, connection\, and self-expression!\n\nIn this arts-based wellness workshop\, you will transform a plain tote bag into a personalized masterpiece. No experience necessary\, just bring yourself and a willingness to get creative! Other than painting\, you can enjoy snacks\, guided discussion\, and learn simple stress management techniques with your peers and guidance from a qualifying art therapist.\n\nThis is a free event for IMS students and IMSSA will be providing all materials\, as well as light refreshments.\n\nWhat to expect:\n All painting materials and tote bags will be provided\n Workshop facilitated by student art therapist\n  Connect with peers through guided discussion\n Learn stress management tips\n Date: Thursday\, May 29\n Time: 5:00 PM – 7:00 PM\n Location: Grad Loft\, 16 Bancroft Avenue\, 2nd Floor\n\nSpots are limited! A waitlist will be maintained\, and you will be notified via email at least 48 hours in advance if a spot opens up.\n Register here: https://forms.gle/7NwChLBGxx2aJLzbA
URL:https://imssa.ca/event/%f0%9f%8e%a8-tote-bag-painting-art-workshop-for-ims-graduate-students-%f0%9f%8e%a8/
END:VEVENT
BEGIN:VEVENT
DTSTART;TZID=America/Toronto:20250529T163000
DTEND;TZID=America/Toronto:20250529T190000
DTSTAMP:20260424T121304
CREATED:20250428T132029Z
LAST-MODIFIED:20250428T132029Z
UID:2744-1748536200-1748545200@imssa.ca
SUMMARY:IMS Connects: Working in Industry
DESCRIPTION:The IMS\, in collaboration with the Peer-to-Peer Mentorship Program and IMSSA\, is excited to be hosting IMS Connects: Working in Industry on Thursday\, May 29 from 4:30 – 7:00 PM at the MaRS building. \nJoin us for this in-person only panel and networking event where you can connect with successful professionals working in diverse careers in industry. All are welcome to attend. Refreshments will be served. Register here!
URL:https://imssa.ca/event/ims-connects-working-in-industry/
END:VEVENT
BEGIN:VEVENT
DTSTART;TZID=America/Toronto:20250522T180000
DTEND;TZID=America/Toronto:20250522T200000
DTSTAMP:20260424T121304
CREATED:20250506T125133Z
LAST-MODIFIED:20250512T134654Z
UID:2756-1747936800-1747944000@imssa.ca
SUMMARY:IMS Intramurals Banquet
DESCRIPTION:Celebrate the end of the season with your teammates and/or friends at our Intramurals Banquet! Enjoy FREE food and non-alcoholic drinks on us\, and if you’re in the mood for something stronger\, alcoholic beverages will be available for purchase at the GSU bar downstairs. All IMS students are welcome! \n🏆 We’ll also be handing out awards and prizes to recognize standout performances and team spirit—so don’t miss your chance to win big and cheer on your fellow players! \n📍 Location: GSU Grad Loft\n🕗 Time: 6-8 pm\n📅 Date: Thursday\, May 22\, 2025 \n✅ RSVP now to save your spot: https://forms.gle/J5VUwWkYGdM4gjTA6 \nCome for the food\, stay for the fun—and help us close out the season in style!
URL:https://imssa.ca/event/ims-intramurals-banquet/
END:VEVENT
BEGIN:VEVENT
DTSTART;TZID=America/Toronto:20250521T173000
DTEND;TZID=America/Toronto:20250521T200000
DTSTAMP:20260424T121304
CREATED:20250506T124403Z
LAST-MODIFIED:20250506T124403Z
UID:2750-1747848600-1747857600@imssa.ca
SUMMARY:Headshots for a Cause
DESCRIPTION:IMSSA is collaborating with Women’s Brain Health Initiative for an evening focused on equity in brain health! \nEnjoy refreshments and appetizers as you learn about tips and ongoing research to protect your brain health. \nGrow your network and leave with an updated professional headshoot. \nEast Common Room\, Heart House\nWednesday May 21st\, 2025 5:30-8pm \nhttps://www.eventbrite.ca/e/headshots-for-a-cause-tickets-1335129792149?aff=oddtdtcreator
URL:https://imssa.ca/event/headshots-for-a-cause/
END:VEVENT
BEGIN:VEVENT
DTSTART;TZID=America/Toronto:20250515T170000
DTEND;TZID=America/Toronto:20250515T190000
DTSTAMP:20260424T121304
CREATED:20250506T124755Z
LAST-MODIFIED:20250506T124755Z
UID:2753-1747328400-1747335600@imssa.ca
SUMMARY:EDI at IMS
DESCRIPTION:Join IMSSA EDI\, Community & Outreach\, and IMS International Community at their first ever “EDI at IMS” event\, where we will be showcasing all EDI related projects and initiatives at IMS. Hear from student representatives from a variety of IMS related clubs including IMS Magazine\, UofT Talks\, IMSSA and many more. Bring a non-perishable item or hygiene product to enter for a chance to win a $50 giftcard of your choice. Dinner will be provided. The event will be on May 15th from 5-7pm at the Koffler house\, Multifaith Centre\, main activity hall at U of T (569 Spadina Cres c\, Toronto\, ON M5S 1C7). We hope to see you all there! Please register below! \nhttps://docs.google.com/forms/d/e/1FAIpQLSePI48Pn5JvSoCo3rQqcLyS415vgV1PltF51hqYvJZQr4g0Lg/viewform?usp=preview 
URL:https://imssa.ca/event/edi-at-ims/
END:VEVENT
BEGIN:VEVENT
DTSTART;TZID=America/Toronto:20250501T180000
DTEND;TZID=America/Toronto:20250501T210000
DTSTAMP:20260424T121304
CREATED:20250428T131807Z
LAST-MODIFIED:20250428T131807Z
UID:2741-1746122400-1746133200@imssa.ca
SUMMARY:IMSSA Board Game Night
DESCRIPTION:Have a chill night in playing board games\, eating pizza\, and getting drinks with IMSSA.   Games\, food\, and soft drinks will be provided\, drinks can be bought from the GSU pub downstairs! \n\nRegistration link: https://forms.gle/ErKsnWoLgRhwkdgs7
URL:https://imssa.ca/event/imssa-board-game-night/
END:VEVENT
BEGIN:VEVENT
DTSTART;TZID=America/Toronto:20250429T180000
DTEND;TZID=America/Toronto:20250429T190000
DTSTAMP:20260424T121304
CREATED:20250424T153049Z
LAST-MODIFIED:20250424T153049Z
UID:2736-1745949600-1745953200@imssa.ca
SUMMARY:Yoga Night
DESCRIPTION:The IMSSA Wellness and Sporting subcommittees are welcoming all IMS students to join us for an evening of yoga and mindfulness meditation! \n🧘 DETAILS 🧘\nWhen: Tuesday\, April 29th\, 6-7pm\nWhere: GSU Gym\, 16 Bancroft Avenue \nPlease dress comfortably and bring a water bottle. Mats will be provided but you can bring your own if you would prefer! \nRegister here: https://forms.gle/WoMKQLRPEh1zxAet6
URL:https://imssa.ca/event/yoga-night/
END:VEVENT
BEGIN:VEVENT
DTSTART;TZID=America/Toronto:20250426T110000
DTEND;TZID=America/Toronto:20250426T130000
DTSTAMP:20260424T121304
CREATED:20250424T152848Z
LAST-MODIFIED:20250424T152848Z
UID:2733-1745665200-1745672400@imssa.ca
SUMMARY:IMSSA Wellness Evergreen Brickworks Nature Walk
DESCRIPTION:Looking to spend some time in nature? Come join IMSSA Wellness for a walk around Evergreen Brickworks Park and the Evergreen Brickworks Farmer’s Market taking place every Saturday. We will meet at Broadview Station at 11 AM and take a free shuttle to Evergreen Brickworks\, or you can meet us straight there at 11:15am. \nAll attendees will be entered into a raffle to win an IMSSA merch piece (value of up to $40)! \n📅 Date: Saturday\, April 26th\n⏰ Time: 11AM – 1PM\n📍 Location: Broadview Station or Evergreen Brickworks \nRegister here: https://forms.gle/oY6Xs5g6XZmqshLV8
URL:https://imssa.ca/event/imssa-wellness-evergreen-brickworks-nature-walk/
END:VEVENT
BEGIN:VEVENT
DTSTART;TZID=America/Toronto:20250425T170000
DTEND;TZID=America/Toronto:20250425T190000
DTSTAMP:20260424T121304
CREATED:20250424T152732Z
LAST-MODIFIED:20250424T152732Z
UID:2730-1745600400-1745607600@imssa.ca
SUMMARY:IMSSA Scientific Day Pub Night
DESCRIPTION:Celebrate the end of IMS Scientific Day with IMSSA‘s annual Scientific Day Pub Night\, happening at 5PM on April 25th at Prenup Pub (191 College St\, Toronto\, ON M5T 1P9\, Canada). Food will be provided! \nRegister here:\nhttps://docs.google.com/forms/d/e/1FAIpQLSfg8rYy5goDE3A9WS1ORWluHBK7vE-oygVh1noPrLNfto90tw/viewform
URL:https://imssa.ca/event/imssa-scientific-day-pub-night/
END:VEVENT
BEGIN:VEVENT
DTSTART;TZID=America/Toronto:20250425T083000
DTEND;TZID=America/Toronto:20250425T170000
DTSTAMP:20260424T121304
CREATED:20250424T153150Z
LAST-MODIFIED:20250424T153150Z
UID:2739-1745569800-1745600400@imssa.ca
SUMMARY:IMS Scientific day and Award Ceremony
DESCRIPTION:Hart House 8:30am-5:00pm
URL:https://imssa.ca/event/ims-scientific-day-and-award-ceremony/
END:VEVENT
END:VCALENDAR