BEGIN:VCALENDAR
VERSION:2.0
PRODID:-// - ECPv6.15.20//NONSGML v1.0//EN
CALSCALE:GREGORIAN
METHOD:PUBLISH
X-ORIGINAL-URL:https://imssa.ca
X-WR-CALDESC:Events for 
REFRESH-INTERVAL;VALUE=DURATION:PT1H
X-Robots-Tag:noindex
X-PUBLISHED-TTL:PT1H
BEGIN:VTIMEZONE
TZID:America/Toronto
BEGIN:DAYLIGHT
TZOFFSETFROM:-0500
TZOFFSETTO:-0400
TZNAME:EDT
DTSTART:20240310T070000
END:DAYLIGHT
BEGIN:STANDARD
TZOFFSETFROM:-0400
TZOFFSETTO:-0500
TZNAME:EST
DTSTART:20241103T060000
END:STANDARD
BEGIN:DAYLIGHT
TZOFFSETFROM:-0500
TZOFFSETTO:-0400
TZNAME:EDT
DTSTART:20250309T070000
END:DAYLIGHT
BEGIN:STANDARD
TZOFFSETFROM:-0400
TZOFFSETTO:-0500
TZNAME:EST
DTSTART:20251102T060000
END:STANDARD
BEGIN:DAYLIGHT
TZOFFSETFROM:-0500
TZOFFSETTO:-0400
TZNAME:EDT
DTSTART:20260308T070000
END:DAYLIGHT
BEGIN:STANDARD
TZOFFSETFROM:-0400
TZOFFSETTO:-0500
TZNAME:EST
DTSTART:20261101T060000
END:STANDARD
END:VTIMEZONE
BEGIN:VEVENT
DTSTART;TZID=America/Toronto:20250707T080000
DTEND;TZID=America/Toronto:20250707T170000
DTSTAMP:20260424T114651
CREATED:20250610T185801Z
LAST-MODIFIED:20250610T185801Z
UID:2821-1751875200-1751907600@imssa.ca
SUMMARY:2025 St. Michael's Life Science Career Symposium
DESCRIPTION:Hello all\, \nThe St. Michael’s Student Research Association is proud to invite you to join us for our 8th annual Life Sciences Career Symposium on July 7th\, 2025\, in person at the Li Ka Shing Knowledge Institute at St. Michael’s Hospital! The theme this year is Beyond the Bench and will feature professionals working in careers outside of bench research. The symposium is a full day event featuring a keynote speaker\, followed by a panel discussion with recent life science graduates working in industry\, skills development workshops and networking opportunities with all the career professionals! This will be a great opportunity to learn\, connect\, and ask questions about the careers and journeys of distinguished experts in the life sciences. \nEarly bird registration is open now for all graduate students and post-doctoral fellows until June 13th! Visit the link below to register now and to learn more information about our event and speakers. \nPlease reach out to srsa@unityhealth.to if you have any questions. \nDate: July 7\, 2025\nLocation: Li Ka Shing Knowledge Institute\, 209 Victoria St\, Toronto\, ON\nRegistration: https://forms.gle/HsU3hf9ArLkJ8FQE7\nEarly Bird Registration Fee until June 13th: $5\nRegular Registration: $10 (after June 13th) \nWe look forward to seeing you there!
URL:https://imssa.ca/event/2025-st-michaels-life-science-career-symposium/
END:VEVENT
BEGIN:VEVENT
DTSTART;TZID=America/Toronto:20250711T083000
DTEND;TZID=America/Toronto:20250711T170000
DTSTAMP:20260424T114651
CREATED:20250616T175627Z
LAST-MODIFIED:20250616T175627Z
UID:2824-1752222600-1752253200@imssa.ca
SUMMARY:Temerty Faculty of Medicine Research Showcase
DESCRIPTION:Dear Temerty Faculty of Medicine Members\, \nWe are thrilled to announce that registration is now open for the third Temerty Faculty of Medicine Research Showcase\, which will take place on Friday\, July 11 from 8:30 AM – 5:00 PM at the Bahen Centre for Information Technology (40 St. George Street). We aim for this event to bring together research-based upper-year undergraduate students\, graduate students\, medical students\, postdoctoral fellows\, faculty\, and staff from the various graduate and clinical departments across the Temerty Faculty of Medicine for a day of networking\, collaboration\, and learning. \nTo register for this FREE event\, click below!\n\n\n\n\n\n\n\n\n\n\n\n\n\n\n\n\n\nRegister TODAY!\n\n\n\n\n\n\n\n\nEvent Program \n\nKeynote Presentation: An invited speaker will showcase their work and facilitate an engaging question & answer segment following their talk.\nResearch Symposia & Poster Sessions: At registration\, trainees and postdoctoral fellows are invited to submit poster abstracts. The top 12 abstracts will be selected for presentation during symposium talks at the event. Please note that we require that you complete both the registration and abstract & panel submission forms by Tuesday\, June 10 at 11:59 PM. Prizes will be given to top presenters!\nPI Talks: This engaging session aims to provide attendees with a discussion of research methods\, experimental design\, troubleshooting strategies\, and more.\nCareer Coffee Chats: Attendees will be matched to 3 professionals based on the attendees’ sector preferences at registration. Attendee spots will be available on a first-come\, first-serve basis and will be limited to ensure productive conversations with our guests.\nMentorship Panels: At the end of the showcase\, we will host the following two mentorship panels that allow attendees to hear from trainee and mentor figures from their aspiring field:\n\nApplying & getting into graduate and medical school\nNavigating a post-graduate career in industry\n\n\n\n\n\n\n\n\n\n\n\nSubmit your Abstract TODAY!\n\n\n\n\n\n\n\n\n\n\n\n\n\n\n\n\nRegistration will close on or before Friday\, June 10 at 11:59 PM\, pending ticket availability. Should you have any questions or require additional information\, please visit our website or reach out to us at temerty.research.showcase@utoronto.ca.\n\n\n\n\n\n\n\n\n\n– Sent on behalf of The Temerty Faculty of Medicine Research Showcase Organizing Committee
URL:https://imssa.ca/event/temerty-faculty-of-medicine-research-showcase-2/
END:VEVENT
BEGIN:VEVENT
DTSTART;TZID=America/Toronto:20250724T090000
DTEND;TZID=America/Toronto:20250724T100000
DTSTAMP:20260424T114651
CREATED:20250707T131206Z
LAST-MODIFIED:20250707T131206Z
UID:2829-1753347600-1753351200@imssa.ca
SUMMARY:IMS Research Rounds - AI in Medicine
DESCRIPTION:Please join us for breakfast as we hear from our fellow IMS researchers on AI in Medicine \nWhen: Thursday\, July 24th\, 2025\, from 9am – 10am\nWhere: C. David Naylor Building – Room NL 203 \nPresenters: \nValentina Tamayo Velasquez – Valentina is a third year PhD student working under the supervision of Drs. Bernard Le Foll Andrea Waddell. Her research includes using machine learning in psychiatric settings to enhance patient safety and outcomes. This includes the development\, piloting\, and implementation of a predictive machine learning model named the Mental health Adverse event Prediction (MAP) Tool. \nAnthaea-Grace Patricia Dennis – Anthaea-Grace is a second-year PhD student in the lab of Dr. Antonio Strafella. Her research aims to use machine learning and AI for efficient and early Parkinson’s Disease diagnosis and prediction. \nDeween Piyasena – Deween is a first year MSc student and his research focuses on developing and validating machine learning models to improve clinical decision-making in lung transplantation. Specifically\, he designs predictive models focused on transplant recipients\, forecasting key outcomes including post-transplant pulmonary function metrics and time to extubation. His work aims to provide clinicians with detailed\, actionable insights to support lung transplant care and optimize post-operative management strategies. \nJerry Li – Jerry is a fourth-year PhD student working with Dr. Mojgan Hodaie. He uses machine learning to investigate how the presence and resolution of chronic pain via neurosurgery affect the brain and body. \nThis is an in-person-only event! Please register here and spread the word! \nThe registration deadline is July 22nd.  \nIf you are interested in presenting your research\, please fill out this form! This is a great opportunity for you to practice your presentation skills\, learn from your peers\, and cultivate collaboration opportunities!
URL:https://imssa.ca/event/ims-research-rounds-ai-in-medicine/
END:VEVENT
END:VCALENDAR