BEGIN:VCALENDAR
VERSION:2.0
PRODID:-// - ECPv6.15.20//NONSGML v1.0//EN
CALSCALE:GREGORIAN
METHOD:PUBLISH
X-ORIGINAL-URL:https://imssa.ca
X-WR-CALDESC:Events for 
REFRESH-INTERVAL;VALUE=DURATION:PT1H
X-Robots-Tag:noindex
X-PUBLISHED-TTL:PT1H
BEGIN:VTIMEZONE
TZID:America/Toronto
BEGIN:DAYLIGHT
TZOFFSETFROM:-0500
TZOFFSETTO:-0400
TZNAME:EDT
DTSTART:20240310T070000
END:DAYLIGHT
BEGIN:STANDARD
TZOFFSETFROM:-0400
TZOFFSETTO:-0500
TZNAME:EST
DTSTART:20241103T060000
END:STANDARD
BEGIN:DAYLIGHT
TZOFFSETFROM:-0500
TZOFFSETTO:-0400
TZNAME:EDT
DTSTART:20250309T070000
END:DAYLIGHT
BEGIN:STANDARD
TZOFFSETFROM:-0400
TZOFFSETTO:-0500
TZNAME:EST
DTSTART:20251102T060000
END:STANDARD
BEGIN:DAYLIGHT
TZOFFSETFROM:-0500
TZOFFSETTO:-0400
TZNAME:EDT
DTSTART:20260308T070000
END:DAYLIGHT
BEGIN:STANDARD
TZOFFSETFROM:-0400
TZOFFSETTO:-0500
TZNAME:EST
DTSTART:20261101T060000
END:STANDARD
END:VTIMEZONE
BEGIN:VEVENT
DTSTART;TZID=America/Toronto:20250828T090000
DTEND;TZID=America/Toronto:20250828T110000
DTSTAMP:20260424T101613
CREATED:20250818T123627Z
LAST-MODIFIED:20250818T123627Z
UID:2875-1756371600-1756378800@imssa.ca
SUMMARY:IMS Methodology Seminar Series: Quantify this! A deep dive into qPCR
DESCRIPTION:Join us for the third instalment of the IMS Methodology Seminar Series on qPCR\, taking place in Rm. 203 in the Naylor Building. Manon Feasson and Christina Doherty\, PhD candidates\, will begin our wet lab section of the seminar series with an overview of Quantitative Polymerase Chain Reaction (qPCR)\, including the principles\, methodology\, and analysis of qPCR. Join us to refresh on essential microbiology techniques and support your fellow students. Breakfast will be provided. \nPlease register here
URL:https://imssa.ca/event/ims-methodology-seminar-series-quantify-this-a-deep-dive-into-qpcr/
LOCATION:Rm. 203\, Naylor Building
END:VEVENT
BEGIN:VEVENT
DTSTART;VALUE=DATE:20250830
DTEND;VALUE=DATE:20250831
DTSTAMP:20260424T101613
CREATED:20250814T194015Z
LAST-MODIFIED:20250814T194015Z
UID:2851-1756512000-1756598399@imssa.ca
SUMMARY:IMSSA x IMS International Presents the End of Summer Potluck Picnic
DESCRIPTION:Say goodbye to summer with good food\, good vibes\, and great company! Join us for an afternoon picnic on the Toronto Islands. Bring a dish to share\, meet fellow incoming IMS students\, and enjoy games\, sunshine\, and scenic views. \n🗓 Date: Friday\, August 30\n📍 Location: Toronto Islands \n⏰ Meet Time: 12:50 PM at Jack Layton Ferry Terminal. We will be taking the 1:20 ferry to the islands! \n🎟️ Ferry Tickets: Purchase them in advance – https://secure.toronto.ca/FerryTicketOnline/tickets2/index.jsp \nAll IMS students are welcome! Be sure to sign up to help us coordinate food and ferry logistics. \nSign up here: https://forms.gle/73vM7v2YWimvCMtf7 
URL:https://imssa.ca/event/imssa-x-ims-international-presents-the-end-of-summer-potluck-picnic/
LOCATION:Toronto Island
END:VEVENT
END:VCALENDAR