BEGIN:VCALENDAR
VERSION:2.0
PRODID:-// - ECPv6.15.20//NONSGML v1.0//EN
CALSCALE:GREGORIAN
METHOD:PUBLISH
X-ORIGINAL-URL:https://imssa.ca
X-WR-CALDESC:Events for 
REFRESH-INTERVAL;VALUE=DURATION:PT1H
X-Robots-Tag:noindex
X-PUBLISHED-TTL:PT1H
BEGIN:VTIMEZONE
TZID:America/Toronto
BEGIN:DAYLIGHT
TZOFFSETFROM:-0500
TZOFFSETTO:-0400
TZNAME:EDT
DTSTART:20240310T070000
END:DAYLIGHT
BEGIN:STANDARD
TZOFFSETFROM:-0400
TZOFFSETTO:-0500
TZNAME:EST
DTSTART:20241103T060000
END:STANDARD
BEGIN:DAYLIGHT
TZOFFSETFROM:-0500
TZOFFSETTO:-0400
TZNAME:EDT
DTSTART:20250309T070000
END:DAYLIGHT
BEGIN:STANDARD
TZOFFSETFROM:-0400
TZOFFSETTO:-0500
TZNAME:EST
DTSTART:20251102T060000
END:STANDARD
BEGIN:DAYLIGHT
TZOFFSETFROM:-0500
TZOFFSETTO:-0400
TZNAME:EDT
DTSTART:20260308T070000
END:DAYLIGHT
BEGIN:STANDARD
TZOFFSETFROM:-0400
TZOFFSETTO:-0500
TZNAME:EST
DTSTART:20261101T060000
END:STANDARD
END:VTIMEZONE
BEGIN:VEVENT
DTSTART;TZID=America/Toronto:20250917T163000
DTEND;TZID=America/Toronto:20250917T180000
DTSTAMP:20260424T083437
CREATED:20250911T223107Z
LAST-MODIFIED:20250911T223107Z
UID:2895-1758126600-1758132000@imssa.ca
SUMMARY:Courageous Conversations: How to Speak Up with Confidence
DESCRIPTION:The Toronto Women in Science Talks is hosting a workshop on Courageous Conversations. Learn how to speak up with confidence and advocate for yourself with supervisors\, colleagues and peers.\n\n Sept 17\n 4:30–6:00 PM\n Register: https://lnkd.in/gmYQMyjk
URL:https://imssa.ca/event/courageous-conversations-how-to-speak-up-with-confidence/
END:VEVENT
BEGIN:VEVENT
DTSTART;TZID=America/Toronto:20250918T180000
DTEND;TZID=America/Toronto:20250918T230000
DTSTAMP:20260424T083437
CREATED:20250911T223322Z
LAST-MODIFIED:20250911T223322Z
UID:2898-1758218400-1758236400@imssa.ca
SUMMARY:IMS International Welcome Pub Social
DESCRIPTION:The IMS International Community welcomes all new and returning students! Join us for a fun evening to meet the new executive board and connect with fellow international and domestic students. Everyone is welcome! \n📅 When? Thursday\, September 18\, at 6 PM \n📍 Where? Madison Avenue Pub (14 Madison Ave\, Toronto) \n👥 Who? Everyone’s welcome! \n🎉 What to bring? Yourself and some good vibes! \nRegister here!🍻
URL:https://imssa.ca/event/ims-international-welcome-pub-social-2/
LOCATION:Madison Avenue Pub\, 14 Madison Ave\,\, Toronto\, ON\, M5R 2S1\, Canada
END:VEVENT
BEGIN:VEVENT
DTSTART;TZID=America/Toronto:20250922T000000
DTEND;TZID=America/Toronto:20250924T000000
DTSTAMP:20260424T083437
CREATED:20250814T194239Z
LAST-MODIFIED:20250814T194627Z
UID:2857-1758499200-1758672000@imssa.ca
SUMMARY:IMPACTT Microbiome Symposium: Abstract Submission
DESCRIPTION:Having IMPACTT is an annual symposium focused on health microbiome research. This 2.5 day symposium will take place on Sept 22-24\, 2025 at the Malcolm Hotel in Canmore\, Canada. \nWe have 19 presenter awards to give away this year\, so this is one symposium you won’t want to miss! \nSee our available awards\nLearn about our speakers \nQuestions? Email impactt@ucalgary.ca and we’ll get back to you right away. \nWe hope to see you Sept 22-24\, 2025 in Canmore\, Canada for our Having IMPACTT 5: Advancing Microbiome Research Symposium! Please note\, IMPACTT is funded by CIHR and our registration fees are heavily subsidized for students and postdocs\, and come with multiple meals each day!
URL:https://imssa.ca/event/impactt-microbiome-symposium-abstract-submission/
END:VEVENT
BEGIN:VEVENT
DTSTART;TZID=America/Toronto:20250925T090000
DTEND;TZID=America/Toronto:20250925T103000
DTSTAMP:20260424T083437
CREATED:20250911T222152Z
LAST-MODIFIED:20250911T222257Z
UID:2883-1758790800-1758796200@imssa.ca
SUMMARY:IMS Research Rounds - Cardiovascular Health Research
DESCRIPTION:Please join us for breakfast as we hear from our fellow IMS researchers on their cardiovascular health research:\n\nHamzah Khan is using plasma protein biomarkers for predicting adverse outcomes in patients with vascular disease.\nKarem Abdul-Samad is developing and evaluating models to predict heart failure outcomes and support clinical decision-making.\nManya Lamba is examining cell death pathways activated during ischemic-reperfusion injuries in pediatric open-heart surgeries to determine the optimal timing for protective interventions to minimize surgical complications.\n\n\nLocation: C. David Naylor Building – Room NL 203\nDate & Time: September 25\, 9:00 am – 10:30 am\n\nThis is an in-person-only event. Please register here and help spread the word!\n\nIf you are interested in presenting your research\, please fill out this form! This is a great opportunity for you to practice your presentation skills\, learn from your peers\, and cultivate collaboration opportunities!
URL:https://imssa.ca/event/ims-research-rounds-cardiovascular-health-research/
LOCATION:David Naylor Building
END:VEVENT
BEGIN:VEVENT
DTSTART;TZID=America/Toronto:20250926T083000
DTEND;TZID=America/Toronto:20250926T143000
DTSTAMP:20260424T083437
CREATED:20250814T194506Z
LAST-MODIFIED:20250814T194506Z
UID:2860-1758875400-1758897000@imssa.ca
SUMMARY:CardioRheum Symposium 2025
DESCRIPTION:CardioRheum Symposium 2025\nSep. 26\, 8:30 am – 2:30 pm \nIn this symposium\, an international team of experts will discuss the latest evidence on the management of rheumatic patients at higher risk of cardiovascular disease. This symposium will focus on three core themes: menopause\, imaging of the heart\, and weight-loss strategies. \nThe event features a global series of speakers\, with panel discussions from experts describing their own experiences\, along with case-based learning\, and networking breaks throughout the day. \nFor more information and to register\, please click here.
URL:https://imssa.ca/event/cardiorheum-symposium-2025/
LOCATION:Women’s College Hospital\, Toronto\, Ontario\, Canada
END:VEVENT
BEGIN:VEVENT
DTSTART;TZID=America/Toronto:20250926T170000
DTEND;TZID=America/Toronto:20250926T220000
DTSTAMP:20260424T083437
CREATED:20250911T222517Z
LAST-MODIFIED:20250911T222635Z
UID:2887-1758906000-1758924000@imssa.ca
SUMMARY:Welcome Roller Skating Night
DESCRIPTION:IMSSA is hosting a Roller Skating Night at Scooter’s Roller Palace on Thursday\, September 26th – and you’re invited! \nDetails: \n Location: Scooter’s Roller Palace (2105 Royal Windsor Drive\, Mississauga) \n Meet at Union Station by 5:00pm to take the GO train together OR meet us directly at Scooter’s by 6:00pm. \n Free pizza + skate rentals included! \nCome out for a fun night of skating\, music\, and community. Whether you’re a pro on wheels or a first-time skater\, everyone is welcome! \n RSVP here! \nWe can’t wait to see you there!
URL:https://imssa.ca/event/welcome-roller-skating-night/
LOCATION:Scooter’s Roller Palace
END:VEVENT
END:VCALENDAR