BEGIN:VCALENDAR
VERSION:2.0
PRODID:-// - ECPv6.15.20//NONSGML v1.0//EN
CALSCALE:GREGORIAN
METHOD:PUBLISH
X-ORIGINAL-URL:https://imssa.ca
X-WR-CALDESC:Events for 
REFRESH-INTERVAL;VALUE=DURATION:PT1H
X-Robots-Tag:noindex
X-PUBLISHED-TTL:PT1H
BEGIN:VTIMEZONE
TZID:America/Toronto
BEGIN:DAYLIGHT
TZOFFSETFROM:-0500
TZOFFSETTO:-0400
TZNAME:EDT
DTSTART:20240310T070000
END:DAYLIGHT
BEGIN:STANDARD
TZOFFSETFROM:-0400
TZOFFSETTO:-0500
TZNAME:EST
DTSTART:20241103T060000
END:STANDARD
BEGIN:DAYLIGHT
TZOFFSETFROM:-0500
TZOFFSETTO:-0400
TZNAME:EDT
DTSTART:20250309T070000
END:DAYLIGHT
BEGIN:STANDARD
TZOFFSETFROM:-0400
TZOFFSETTO:-0500
TZNAME:EST
DTSTART:20251102T060000
END:STANDARD
BEGIN:DAYLIGHT
TZOFFSETFROM:-0500
TZOFFSETTO:-0400
TZNAME:EDT
DTSTART:20260308T070000
END:DAYLIGHT
BEGIN:STANDARD
TZOFFSETFROM:-0400
TZOFFSETTO:-0500
TZNAME:EST
DTSTART:20261101T060000
END:STANDARD
END:VTIMEZONE
BEGIN:VEVENT
DTSTART;TZID=America/Toronto:20251103T080000
DTEND;TZID=America/Toronto:20251103T170000
DTSTAMP:20260424T052713
CREATED:20251103T235552Z
LAST-MODIFIED:20251103T235552Z
UID:3082-1762156800-1762189200@imssa.ca
SUMMARY:IMS International Thai Cuisine Night
DESCRIPTION:Join the IMS international community as we explore different cuisines around the world! \nThe next event will be at 6pm on Tuesday\, November 11th\, 2025 at SukhoTHAI (52 Wellington St E\, Toronto\, ON). \nThis is a great way to try some authentic cuisine\, meet new friends\, and experience a unique part of the world with the IMS International Community. Each attendee will be responsible for paying for their own foods/drinks. We hope to see you there! \nPlease register on the form using the link below:\nhttps://forms.gle/EMkmTKpSeMo4XffcA \nReservation is limited so please ONLY register if you are sure you are able to attend. If anything changes and you can no longer attend\, please email rebecca.smythe@mail.utoronto.ca.
URL:https://imssa.ca/event/ims-international-thai-cuisine-night/
END:VEVENT
BEGIN:VEVENT
DTSTART;TZID=America/Toronto:20251104T160000
DTEND;TZID=America/Toronto:20251104T180000
DTSTAMP:20260424T052713
CREATED:20251103T234604Z
LAST-MODIFIED:20251103T234604Z
UID:3072-1762272000-1762279200@imssa.ca
SUMMARY:Get Talking! Pathways to Leadership: Careers in Healthcare and Innovation
DESCRIPTION:Get Talking! is an in-person discussion series focused on the most challenging issues facing healthcare today including equitable access to care\, legislation\, funding\, delivery\, and innovation. It is intended to showcase multiple perspectives and create a forum for a constructive\, respectful discussion. \nFor more information and to register\, please click here.
URL:https://imssa.ca/event/get-talking-pathways-to-leadership-careers-in-healthcare-and-innovation/
END:VEVENT
BEGIN:VEVENT
DTSTART;TZID=America/Toronto:20251112T110000
DTEND;TZID=America/Toronto:20251112T160000
DTSTAMP:20260424T052713
CREATED:20251103T235218Z
LAST-MODIFIED:20251103T235442Z
UID:3074-1762945200-1762963200@imssa.ca
SUMMARY:IMPACT MED 2025: From Image to Impact
DESCRIPTION:The IMPACT MED 2025 Conference is free virtual event will explore the theme of Artificial Intelligence (AI) and Global Health Equity featuring a hands-on Workshop\, inspiring keynote address\, engaging panel discussion\, and Networking Lounge to connect with professionals and peers. \nThis is a wonderful opportunity to learn about the future of AI in medicine and to network with innovators in the field. \nFor more information and to register\, please click here.
URL:https://imssa.ca/event/impact-med-2025-from-image-to-impact/
END:VEVENT
BEGIN:VEVENT
DTSTART;TZID=America/Toronto:20251112T120000
DTEND;TZID=America/Toronto:20251112T140000
DTSTAMP:20260424T052713
CREATED:20251103T235957Z
LAST-MODIFIED:20251104T000006Z
UID:3088-1762948800-1762956000@imssa.ca
SUMMARY:IMSSA x P2P CGRS-M Workshop
DESCRIPTION:Thinking of applying for CGRS-M this year but feeling overwhelmed by the process? IMSAA Academics and Peer2Peer Mentorship are teaming up for a workshop to help you navigate and be successful with your CGRS-M application! The first half of the workshop will feature advice from Jane Freeman from GCAC\, followed by a Q&A with previous award winners! The workshop takes place Tuesday\, November 12th from 12PM to 2PM on Zoom. Register using the QR code or at this link: https://docs.google.com/forms/d/e/1FAIpQLSdS4xk9cv0B7L0OSOyj6tg_cHllHll3Eoo1TquOFh3JbssfkA/viewform
URL:https://imssa.ca/event/3088/
END:VEVENT
BEGIN:VEVENT
DTSTART;TZID=America/Toronto:20251112T150000
DTEND;TZID=America/Toronto:20251112T170000
DTSTAMP:20260424T052713
CREATED:20251103T235330Z
LAST-MODIFIED:20251103T235409Z
UID:3078-1762959600-1762966800@imssa.ca
SUMMARY:Perfect Pitch 2025
DESCRIPTION:Pitch Perfect 2025 is a Temerty Faculty of Medicine and Health Innovation Hub (H2i) initiative to celebrate and support student entrepreneurs working on health focused innovations. The event will feature six student-led ventures\, each with just five minutes to pitch their idea to a panel of expert judges. Three winning teams will each receive a $5\,000 Student Innovation Fellowship to help advance their projects. \nLocation: William Doo Auditorium\, New College\, 45 Willcocks St. \nFor more information and to register\, please click here.
URL:https://imssa.ca/event/perfect-pitch-2025/
END:VEVENT
BEGIN:VEVENT
DTSTART;TZID=America/Toronto:20251113T190000
DTEND;TZID=America/Toronto:20251113T210000
DTSTAMP:20260424T052713
CREATED:20251014T233737Z
LAST-MODIFIED:20251014T233737Z
UID:3033-1763060400-1763067600@imssa.ca
SUMMARY:IMS Magazine Fall 2025 Launch Party!
DESCRIPTION:Join us for an evening of celebration as we launch the Fall 2025 issue of the IMS Magazine\, Health in the Margins. Hear from this issue’s featured panelists\, connect with fellow students and faculty\, and enjoy delicious food and refreshments in the beautiful Debates Room at Hart House. \nThe event takes place Thurs Nov. 13 from 7–9 PM. Space is limited – please RSVP by Thurs Nov 6 at tinyurl.com/bdhj8ct7. \nCome celebrate another incredible issue created by IMS students – we can’t wait to see you there! If you have any questions\, please don’t hesitate to contact us at theimsmagazine@gmail.com.
URL:https://imssa.ca/event/ims-magazine-fall-2025-launch-party/
END:VEVENT
BEGIN:VEVENT
DTSTART;TZID=America/Toronto:20251118T100000
DTEND;TZID=America/Toronto:20251118T113000
DTSTAMP:20260424T052713
CREATED:20250814T195326Z
LAST-MODIFIED:20250814T195326Z
UID:2868-1763460000-1763465400@imssa.ca
SUMMARY:Research Ethics in the Health Sciences Info Session
DESCRIPTION:Research Ethics in the Health Sciences Info Session\nNov. 18\, 10:00 am – 11:30 am \nThe Human Research Ethics Unit is pleased to invite you to this informational session to address all types of research involving human participants in the health sciences. Faculty members\, graduate students\, and staff are invited to attend. Workshops will include a presentation with opportunities for questions and discussion. Topics will include: \n\nHistory and principles behind research ethics review\nProcedures under Tri-council policy statement: Ethical conduct for research involving humans\nUT’s risk matrix for assessing participant vulnerability and research risk\nFree & informed consent\, privacy & confidentiality\, conflict of interest\, inclusion/exclusion criteria\nQuestions and discussion relating to specific projects and methods\n\nFor more information and to register\, please click here.
URL:https://imssa.ca/event/research-ethics-in-the-health-sciences-info-session/
END:VEVENT
BEGIN:VEVENT
DTSTART;TZID=America/Toronto:20251118T173000
DTEND;TZID=America/Toronto:20251118T183000
DTSTAMP:20260424T052713
CREATED:20251103T235734Z
LAST-MODIFIED:20251103T235734Z
UID:3085-1763487000-1763490600@imssa.ca
SUMMARY:GPSN Gym Crawl @ SPINCO
DESCRIPTION:The Graduate Peer Support Network is continuing our gym crawl series! We’re teaming up with SPINCO Downtown to help you get moving. We are providing an exclusive class for U of T graduate students on Tuesday November 18th at 5:30pm. Join us using the link or scan the QR code. We hope to see you there!
URL:https://imssa.ca/event/gpsn-gym-crawl-spinco/
END:VEVENT
BEGIN:VEVENT
DTSTART;TZID=America/Toronto:20251119T090000
DTEND;TZID=America/Toronto:20251119T120000
DTSTAMP:20260424T052713
CREATED:20251002T134022Z
LAST-MODIFIED:20251002T134022Z
UID:2916-1763542800-1763553600@imssa.ca
SUMMARY:15th Annual Ori Rotstein Lecture in Translational Research
DESCRIPTION:15th Annual Ori Rotstein Lecture in Translational Research\nRegister by Oct. 16 \nThe Institute of Medical Science invites you to register for the 15th Annual Ori Rotstein Lecture in Translational Research\, taking place on Wednesday\, November 19\, 2025\, from 9:00 AM to 12:00 PM at the Li Ka Shing Auditorium. \nThis year’s theme\, “Sex Differences in Health and Disease\,” will highlight current research and explore critical gaps in the field. We are excited to announce that this year’s event will commence with a wonderful lecture from Keynote Speaker Dr. Karen Reue and culminate in an inspired panel discussion. The panel discussion will showcase accomplished speakers exploring how they integrate sex differences in their research. \nAll students are required to attend in person. You must attend at least once during your degree at IMS. \n\nIf you started your IMS degree after Sept. 2024\, attending this lecture in person is a degree requirement.\nIf you started your IMS degree on or before Jan. 2024\, attending this lecture in person is a requirement for MSC1010H/1011H.\n\nIf you have any questions please reach out to Slaghaniya (s.neupane@mail.utoronto.ca) or Joanna (joanna.cunanan@uhn.ca).
URL:https://imssa.ca/event/15th-annual-ori-rotstein-lecture-in-translational-research/
END:VEVENT
BEGIN:VEVENT
DTSTART;TZID=America/Toronto:20251120T173000
DTEND;TZID=America/Toronto:20251120T200000
DTSTAMP:20260424T052713
CREATED:20251021T175127Z
LAST-MODIFIED:20251021T175233Z
UID:3061-1763659800-1763668800@imssa.ca
SUMMARY:IMSSA Connects: Working in Academia
DESCRIPTION:The IMS\, in collaboration with the Peer-to-Peer Mentorship Program and IMSSA\, is excited to be hosting IMS Connects: Working in Academia on Thursday\, November 20th from 5:30 – 8:00 PM at the Donnelley Centre. \nJoin us by registering here for this in-person only panel and networking event\, where you can connect with successful professionals working in diverse careers in academia.  All are welcome to attend. Refreshments will be served.
URL:https://imssa.ca/event/3061/
END:VEVENT
BEGIN:VEVENT
DTSTART;TZID=America/Toronto:20251121T183000
DTEND;TZID=America/Toronto:20251121T213000
DTSTAMP:20260424T052713
CREATED:20251104T000148Z
LAST-MODIFIED:20251104T000148Z
UID:3092-1763749800-1763760600@imssa.ca
SUMMARY:GMCA Networking Night 2025
DESCRIPTION:The Graduate Management Consulting Association (GMCA) is a student-run organization established in 2009 at the University of Toronto (U of T). We strive to support graduate and postdoctoral trainees interested in pursuing careers in consulting and related industries. \nConnect with consultants and other like-minded individuals at GMCA’s in-person Networking Night happening on Friday\, November 21st\, 2025\, from 6:30pm – 9:30pm ET! This networking event intends to connect advanced degree candidates (PhDs\, Master’s\, Post-Doctoral Fellows\, MDs\, JDs\, PharmDs) with consultants from top firms. To join us\, apply using the link below by Monday\, November 10th\, 2025\, at 11:59 PM ET! 
URL:https://imssa.ca/event/gmca-networking-night-2025/
END:VEVENT
BEGIN:VEVENT
DTSTART;TZID=America/Toronto:20251126T190000
DTEND;TZID=America/Toronto:20251126T230000
DTSTAMP:20260424T052713
CREATED:20251110T145215Z
LAST-MODIFIED:20251110T145215Z
UID:3099-1764183600-1764198000@imssa.ca
SUMMARY:IMSSA First Sporting Event: Raptors Game Watch Party
DESCRIPTION:We are also hosting our first event of this school year\, which is…. *insert drum roll sound effects”… Raptors game watch party! The event will be held on Nov 26 Wednesday at 7PM at King Taps First Canadian Place. Please click this link to RSVP for the event: https://forms.gle/ZpJjXAU5BwH47nBy6.
URL:https://imssa.ca/event/imssa-first-sporting-event-raptors-game-watch-party/
END:VEVENT
END:VCALENDAR