BEGIN:VCALENDAR
VERSION:2.0
PRODID:-// - ECPv6.15.20//NONSGML v1.0//EN
CALSCALE:GREGORIAN
METHOD:PUBLISH
X-ORIGINAL-URL:https://imssa.ca
X-WR-CALDESC:Events for 
REFRESH-INTERVAL;VALUE=DURATION:PT1H
X-Robots-Tag:noindex
X-PUBLISHED-TTL:PT1H
BEGIN:VTIMEZONE
TZID:America/Toronto
BEGIN:DAYLIGHT
TZOFFSETFROM:-0500
TZOFFSETTO:-0400
TZNAME:EDT
DTSTART:20240310T070000
END:DAYLIGHT
BEGIN:STANDARD
TZOFFSETFROM:-0400
TZOFFSETTO:-0500
TZNAME:EST
DTSTART:20241103T060000
END:STANDARD
BEGIN:DAYLIGHT
TZOFFSETFROM:-0500
TZOFFSETTO:-0400
TZNAME:EDT
DTSTART:20250309T070000
END:DAYLIGHT
BEGIN:STANDARD
TZOFFSETFROM:-0400
TZOFFSETTO:-0500
TZNAME:EST
DTSTART:20251102T060000
END:STANDARD
BEGIN:DAYLIGHT
TZOFFSETFROM:-0500
TZOFFSETTO:-0400
TZNAME:EDT
DTSTART:20260308T070000
END:DAYLIGHT
BEGIN:STANDARD
TZOFFSETFROM:-0400
TZOFFSETTO:-0500
TZNAME:EST
DTSTART:20261101T060000
END:STANDARD
END:VTIMEZONE
BEGIN:VEVENT
DTSTART;TZID=America/Toronto:20251202T170000
DTEND;TZID=America/Toronto:20251202T210000
DTSTAMP:20260424T040149
CREATED:20251124T132414Z
LAST-MODIFIED:20251124T132414Z
UID:3109-1764694800-1764709200@imssa.ca
SUMMARY:IMS International Community Distillery Winter Village Fest
DESCRIPTION:We invite you all to join the IMS International Community for a magical evening at the Distillery Winter Village!  \nWe’ll meet at the Distillery Loop TTC Station on Tuesday\, December 2 at 5:30 PM\, as we’re heading to one of Toronto’s most festive spots for a cozy\, outdoor holiday market experience! It will be the final day that entry to the Winter Village is free  \n When? Tuesday\, December 2\, at 5:30 PM\n Where? Distillery Loop TTC Station\n Who? Everyone is welcome!\n What to bring? Yourself and some good vibes! \nPlease register using the link below\, and the first 10 people to register will be treated to hot chocolate on us!\nhttps://forms.gle/R1rq4e8bAdxiMfNm8
URL:https://imssa.ca/event/ims-international-community-distillery-winter-village-fest/
END:VEVENT
BEGIN:VEVENT
DTSTART;TZID=America/Toronto:20251203T170000
DTEND;TZID=America/Toronto:20251203T210000
DTSTAMP:20260424T040149
CREATED:20251117T144747Z
LAST-MODIFIED:20251117T144747Z
UID:3105-1764781200-1764795600@imssa.ca
SUMMARY:Board Games Night
DESCRIPTION:Looking for a cozy\, laughter-filled break from the semester grind? \nJoin us for IMSSA’s Board Game Night\, happening December 3rd from 5:30 PM to 8:30 PM at the Grad Loft! Expect a relaxed\, fun atmosphere with a lineup of games for every mood\, whether you’re here for lighthearted laughs or a competitive challenge. And yes\, we’ve got you covered with free pizza and drinks! \nClick here to RSVP! \nCome recharge\, reconnect\, and enjoy a good vibe!!!
URL:https://imssa.ca/event/board-games-night/
END:VEVENT
BEGIN:VEVENT
DTSTART;TZID=America/Toronto:20251204T100000
DTEND;TZID=America/Toronto:20251204T110000
DTSTAMP:20260424T040149
CREATED:20251201T151636Z
LAST-MODIFIED:20251201T151636Z
UID:3123-1764842400-1764846000@imssa.ca
SUMMARY:First TGH-IMS Coffee Meet-Up of the Year
DESCRIPTION:We’re excited to kick off the year with a coffee meet-up hosted by the Toronto General Hospital (TGH) site – IMSSA group! This is a fantastic opportunity to connect with students from the TGH-IMS community and make new friends over coffee and treats.\nEvent Details:\n Date: Thursday\, December 4\, 2025\n Time: 10:00 – 11:00 am.\n Location: MaRS Building\, in front of Tim Hortons (101 College Street)\nWe’ll provide free coffee and Timbits for everyone to enjoy! To help us plan accordingly and make sure there’s enough for everyone\, we kindly ask you to fill out the RSVP form.\nThanks and looking forward to seeing you there!
URL:https://imssa.ca/event/first-tgh-ims-coffee-meet-up-of-the-year/
END:VEVENT
BEGIN:VEVENT
DTSTART;TZID=America/Toronto:20251204T180000
DTEND;TZID=America/Toronto:20251204T200000
DTSTAMP:20260424T040149
CREATED:20251201T151206Z
LAST-MODIFIED:20251201T151206Z
UID:3115-1764871200-1764878400@imssa.ca
SUMMARY:P2P Mentorship - Thriving Through Grad School Event
DESCRIPTION:The P2P Mentorship is hosting our upcoming virtual event\, Thriving through Grad School. Please see the event information below: \nDate: Thursday\, December 4th\nTime: 6-8pm\nZoom Meeting Link:  https://utoronto.zoom.us/j/86793810342\nMeeting ID: 867 9381 0342 \nPlease fill out this form to let us know if you are coming and to let us know what topics you would like to see us cover:  https://forms.gle/FodxT3ktfwZVEXy4A \nWe are planning to go over a variety of topics including graduate timelines\, student-supervisor dynamics\, courses\, PAC meetings\, as well as external/internal grants and awards from an upper year student perspective. We will also be hosting a Q&A period!
URL:https://imssa.ca/event/p2p-mentorship-thriving-through-grad-school-event/
END:VEVENT
BEGIN:VEVENT
DTSTART;TZID=America/Toronto:20251208T170000
DTEND;TZID=America/Toronto:20251208T190000
DTSTAMP:20260424T040149
CREATED:20251201T151340Z
LAST-MODIFIED:20251201T151340Z
UID:3117-1765213200-1765220400@imssa.ca
SUMMARY:Inclusive by Design Series: Equity by Design Workshop
DESCRIPTION:Join us for Equity by Design\, the first workshop in the Inclusive by Design series\, focused on applying the Health Equity Impact Assessment (HEIA) framework in research and academic contexts. This hands-on session will introduce practical strategies for identifying structural barriers\, mitigating inequities\, and integrating equity principles into study design. \nWe are excited to welcome Sonia Meerai\, Assistant Professor in the School of Social Work at Laurentian University. Sonia is an interdisciplinary scholar whose work explores racial justice\, reproductive technologies\, algorithmic surveillance\, and the impacts of digital health through critical race feminist and decolonial frameworks. She brings deep expertise in applying equity-centered methodologies and has collaborated on HEIA processes across health system projects. \nDate: Monday\, December 8\, 2025\nTime: 5:00 PM to 7:00 PM\nLocation: Earth Sciences Building\, Room 4000 \nFree snacks\, resources\, and participation certificates provided. \nReserve your spot and be part of our first Inclusive by Design workshop.
URL:https://imssa.ca/event/inclusive-by-design-series-equity-by-design-workshop/
END:VEVENT
BEGIN:VEVENT
DTSTART;TZID=America/Toronto:20251210T180000
DTEND;TZID=America/Toronto:20251210T200000
DTSTAMP:20260424T040149
CREATED:20251201T151455Z
LAST-MODIFIED:20251201T151455Z
UID:3120-1765389600-1765396800@imssa.ca
SUMMARY:IMSSA x UofT LLC x Canadian Blood Services - Holiday Blood Drive
DESCRIPTION:Join us in spreading generosity this holiday season! IMSSA\, in collaboration with UofT LLC and Canadian Blood Services\, is hosting a Holiday Blood Drive on Wednesday\, December 10\, 2025\, from 6–8 PM. \nAll students are invited to sign up\, come out\, and make a meaningful impact—every donation can help save a life. Bring your friends\, enjoy some treats\, and give back to the community during this season of giving. \n Meet at 67 College Street\nOr join the group walk from the UofT Medical Sciences Building at 5:30 PM. \nScan the QR code to register—we hope to see you there!
URL:https://imssa.ca/event/imssa-x-uoft-llc-x-canadian-blood-services-holiday-blood-drive/
END:VEVENT
BEGIN:VEVENT
DTSTART;TZID=America/Toronto:20251211T183000
DTEND;TZID=America/Toronto:20251211T233000
DTSTAMP:20260424T040149
CREATED:20251110T145020Z
LAST-MODIFIED:20251110T145044Z
UID:3095-1765477800-1765495800@imssa.ca
SUMMARY:IMSSA Holiday Party 2025
DESCRIPTION:This holiday season\, step into the spotlight and join us at Firkin on Bay for IMSSA’s Met Gala-themed Winter Soirée!  \nPrepare for an unforgettable evening of high fashion\, dazzling ambiance\, and festive indulgence. Expect couture-inspired cocktails\, decadent bites\, live entertainment\, immersive experiences\, and plenty of surprises worthy of the runway. \nDress to impress in semi-formal or fashion-forward attire—but most importantly\, come as you feel comfortable. Whether you’re channeling avant-garde glamour or keeping it cozy chic\, we’re excited to celebrate with you. \nNOTE: IMS student tickets are $5 each and $15 for plus ones. Following registration\, Payment will be at the door of the event (cash and card accepted). \nLink: https://www.eventbrite.com/e/imssa-holiday-party-2025-tickets-1967205709232?aff=oddtdtcreator
URL:https://imssa.ca/event/imssa-holiday-party-2025/
END:VEVENT
BEGIN:VEVENT
DTSTART;TZID=America/Toronto:20251215T170000
DTEND;TZID=America/Toronto:20251215T200000
DTSTAMP:20260424T040149
CREATED:20251208T152714Z
LAST-MODIFIED:20251208T152714Z
UID:3127-1765818000-1765828800@imssa.ca
SUMMARY:IMSSA Winter Crafts Night
DESCRIPTION:Take a break from your coursework and research and join IMSSA Wellness for a cozy Winter Craft Night on December 15 from 5–8 pm at the U of T Grad Loft. We will be making ornaments\, painting mugs\, and creating winter-themed crafts\, with all supplies\, hot chocolate\, and holiday snacks provided. Just drop in to unwind\, get creative\, and connect with fellow IMS students. \nRegister here
URL:https://imssa.ca/event/imssa-winter-crafts-night/
END:VEVENT
END:VCALENDAR