BEGIN:VCALENDAR
VERSION:2.0
PRODID:-// - ECPv6.15.20//NONSGML v1.0//EN
CALSCALE:GREGORIAN
METHOD:PUBLISH
X-ORIGINAL-URL:https://imssa.ca
X-WR-CALDESC:Events for 
REFRESH-INTERVAL;VALUE=DURATION:PT1H
X-Robots-Tag:noindex
X-PUBLISHED-TTL:PT1H
BEGIN:VTIMEZONE
TZID:America/Toronto
BEGIN:DAYLIGHT
TZOFFSETFROM:-0500
TZOFFSETTO:-0400
TZNAME:EDT
DTSTART:20250309T070000
END:DAYLIGHT
BEGIN:STANDARD
TZOFFSETFROM:-0400
TZOFFSETTO:-0500
TZNAME:EST
DTSTART:20251102T060000
END:STANDARD
BEGIN:DAYLIGHT
TZOFFSETFROM:-0500
TZOFFSETTO:-0400
TZNAME:EDT
DTSTART:20260308T070000
END:DAYLIGHT
BEGIN:STANDARD
TZOFFSETFROM:-0400
TZOFFSETTO:-0500
TZNAME:EST
DTSTART:20261101T060000
END:STANDARD
BEGIN:DAYLIGHT
TZOFFSETFROM:-0500
TZOFFSETTO:-0400
TZNAME:EDT
DTSTART:20270314T070000
END:DAYLIGHT
BEGIN:STANDARD
TZOFFSETFROM:-0400
TZOFFSETTO:-0500
TZNAME:EST
DTSTART:20271107T060000
END:STANDARD
END:VTIMEZONE
BEGIN:VEVENT
DTSTART;TZID=America/Toronto:20260211T173000
DTEND;TZID=America/Toronto:20260211T193000
DTSTAMP:20260424T005943
CREATED:20260209T183411Z
LAST-MODIFIED:20260209T183628Z
UID:3164-1770831000-1770838200@imssa.ca
SUMMARY:Valentine's Day Crafts Night
DESCRIPTION:Join IMSSA for a fun and relaxed Valentine’s Crafts Night featuring cookie baking\, bath bomb making\, goody bag assembling\, and card making. Whether you’re creating something for a partner\, a friend\, or yourself\, everyone is welcome!\n Feb 11\n 5:30–7:30 PM\n Location: OISE2295 \nPlease sign up here: https://docs.google.com/forms/d/e/1FAIpQLScn1_ty6BMSBlpRiq4mEwZCuMZO5IkrLZPmgqK9doVlkylHFw/viewform?usp=header
URL:https://imssa.ca/event/3164/
END:VEVENT
BEGIN:VEVENT
DTSTART;TZID=America/Toronto:20260212T183000
DTEND;TZID=America/Toronto:20260212T203000
DTSTAMP:20260424T005943
CREATED:20260209T183107Z
LAST-MODIFIED:20260209T183107Z
UID:3157-1770921000-1770928200@imssa.ca
SUMMARY:IMS International x IMSSA Sporting Skate Night
DESCRIPTION:Join IMSSA Sporting and the IMS International Community for an evening of ice skating at the Bentway Skate Trail \n Date: Thursday\, February 12\n Time: 6:30 PM\n Location: Bentway Skate Trail\, 250 Fort York Boulevard\nSkate rentals are free and available on site. To rent skates\, participants must present a valid government-issued ID and complete a waiver.\nPlease note that the skate trail may close due to: \n\nExtreme cold (below −20 °C\, or −25 °C with wind chill)\nHeavy snowfall\n\n Registration is required — sign up below! \nhttps://docs.google.com/forms/d/e/1FAIpQLSdBy44fW9PN-pKOEUR0GtulhUNbrndtvqyuQVWnyxuF4YKo1w/viewform
URL:https://imssa.ca/event/ims-international-x-imssa-sporting-skate-night/
END:VEVENT
BEGIN:VEVENT
DTSTART;TZID=America/Toronto:20260215T080000
DTEND;TZID=America/Toronto:20260215T170000
DTSTAMP:20260424T005943
CREATED:20260209T182740Z
LAST-MODIFIED:20260209T182740Z
UID:3151-1771142400-1771174800@imssa.ca
SUMMARY:Pueblo Science RISE Program - Apply By Feb 15
DESCRIPTION:Pueblo Science is inviting IMSSA students to apply for the RISE (Rural Initiative for Science Education) Program\, an international outreach initiative in Indonesia and the Philippines (late April–May 2026). Participants will deliver hands-on STEM lessons (e.g.\, slime\, engineering builds\, chemistry demos) in rural schools while gaining experience in science communication\, global education\, and community outreach. Internal travel and teaching period expenses are covered. A virtual info session will be held Jan 30 at 6:30 PM at the following Zoom Link: \nhttps://utoronto.zoom.us/my/imssa \nApply by Feb 15\, 2026: https://forms.gle/7XiLSKqfBggXsYJT6
URL:https://imssa.ca/event/pueblo-science-rise-program-apply-by-feb-15/
END:VEVENT
BEGIN:VEVENT
DTSTART;TZID=America/Toronto:20260218T180000
DTEND;TZID=America/Toronto:20260218T210000
DTSTAMP:20260424T005943
CREATED:20260209T182941Z
LAST-MODIFIED:20260216T194022Z
UID:3154-1771437600-1771448400@imssa.ca
SUMMARY:IMS International Lunar New Year Celebration
DESCRIPTION: Come celebrate the 2026 Lunar New Year with the IMS International Community! \n The event will include a hands-on dumpling-making station\, plus snacks\, refreshments\, games\, and music. We hope to see you there! Please RSVP to help us plan for space and food. \n When? Wednesday\, February 18 @ 6:00PM\n Where?  Grad Loft\, 16 Bancroft Ave\, 2nd Floor \nPlease register below \nhttps://docs.google.com/forms/d/e/1FAIpQLSdE8WnV8eavU2kXadNalW4BBOgGtlAe_wvj5pS264AGRHkpZA/viewform?pli=1
URL:https://imssa.ca/event/ims-international-lunar-new-year-celebration/
END:VEVENT
BEGIN:VEVENT
DTSTART;TZID=America/Toronto:20260218T183000
DTEND;TZID=America/Toronto:20260218T183000
DTSTAMP:20260424T005943
CREATED:20260209T183523Z
LAST-MODIFIED:20260209T183538Z
UID:3167-1771439400-1771439400@imssa.ca
SUMMARY:GPSN Gym Crawl at BeatBox
DESCRIPTION:The Graduate Peer Support Network is continuing our gym crawl series! We’re teaming up with BeatBox to help you get moving. We are providing an exclusive class with 20 spots for U of T graduate students on Wednesday February 18th at 6:45pm. Join us using the link or scan the QR code. We hope to see you there!
URL:https://imssa.ca/event/3167/
END:VEVENT
BEGIN:VEVENT
DTSTART;TZID=America/Toronto:20260219T173000
DTEND;TZID=America/Toronto:20260219T220000
DTSTAMP:20260424T005943
CREATED:20260209T183228Z
LAST-MODIFIED:20260216T194805Z
UID:3160-1771522200-1771538400@imssa.ca
SUMMARY:IMSSA Social Presents: Arcade Night
DESCRIPTION:Hello folks! Come kick back with us at FreePlay Toronto Retro Arcade Bar (300 College St.) on Thursday\, Feb 19th at 5:30 PM for a night of games\, food\, and fun — $5 for IMS students. Sign up below!!! \nhttps://forms.gle/zYKU1c2SDDgyXQPh9
URL:https://imssa.ca/event/imssa-social-presents-arcade-night/
END:VEVENT
BEGIN:VEVENT
DTSTART;TZID=America/Toronto:20260226T180000
DTEND;TZID=America/Toronto:20260226T200000
DTSTAMP:20260424T005943
CREATED:20260216T194145Z
LAST-MODIFIED:20260216T194145Z
UID:3174-1772128800-1772136000@imssa.ca
SUMMARY:IMS International x IMSSA EDI Present: Alone\, Together
DESCRIPTION:We invite you to Alone\, Together — a community sharing circle created to hold space for reflection\, connection\, and honest conversation. \nIn a time when many of us move quietly through shared spaces\, this gathering offers an opportunity to sit together\, to listen\, and to speak about belonging\, identity\, and what community means within IMS. \nJoin us for an evening of thoughtful dialogue in a calm\, welcoming environment. Cultural desserts and warm drinks will be shared. All are welcome! \n  \n Date: Thursday\, February 26 \nTime: 6:00–8:00 PM \nLocation: University College\, Room 65
URL:https://imssa.ca/event/ims-international-x-imssa-edi-present-alone-together/
END:VEVENT
END:VCALENDAR